BEGIN:VCALENDAR
VERSION:2.0
PRODID:-//Cranberry Country Chamber of Commerce - ECPv6.15.20//NONSGML v1.0//EN
CALSCALE:GREGORIAN
METHOD:PUBLISH
X-ORIGINAL-URL:https://cranberrycountry.org
X-WR-CALDESC:Events for Cranberry Country Chamber of Commerce
REFRESH-INTERVAL;VALUE=DURATION:PT1H
X-Robots-Tag:noindex
X-PUBLISHED-TTL:PT1H
BEGIN:VTIMEZONE
TZID:America/New_York
BEGIN:DAYLIGHT
TZOFFSETFROM:-0500
TZOFFSETTO:-0400
TZNAME:EDT
DTSTART:20250309T070000
END:DAYLIGHT
BEGIN:STANDARD
TZOFFSETFROM:-0400
TZOFFSETTO:-0500
TZNAME:EST
DTSTART:20251102T060000
END:STANDARD
BEGIN:DAYLIGHT
TZOFFSETFROM:-0500
TZOFFSETTO:-0400
TZNAME:EDT
DTSTART:20260308T070000
END:DAYLIGHT
BEGIN:STANDARD
TZOFFSETFROM:-0400
TZOFFSETTO:-0500
TZNAME:EST
DTSTART:20261101T060000
END:STANDARD
BEGIN:DAYLIGHT
TZOFFSETFROM:-0500
TZOFFSETTO:-0400
TZNAME:EDT
DTSTART:20270314T070000
END:DAYLIGHT
BEGIN:STANDARD
TZOFFSETFROM:-0400
TZOFFSETTO:-0500
TZNAME:EST
DTSTART:20271107T060000
END:STANDARD
END:VTIMEZONE
BEGIN:VEVENT
DTSTART;TZID=America/New_York:20260918T080000
DTEND;TZID=America/New_York:20260918T090000
DTSTAMP:20260424T083033
CREATED:20260423T173411Z
LAST-MODIFIED:20260423T173456Z
UID:10000613-1789718400-1789722000@cranberrycountry.org
SUMMARY:Collaborating over Coffee NewFed Mortgage
DESCRIPTION:Join us as we network and collaborate over coffee at \nNewFed Mortgage\nFriday\, September 18\, 2026  |  8:00 – 9:00 am  |  4 Court Street\, Taunton\nParking on street or in parking lot across street\nCost ot attend: FREE\nSupport our Chamber Community Involvement Council as we collect Halloween candy for our non-profit businesses (BAMSI\, Easter Seals/The Bridge Center\, and Old Colony YMCA) holding Trunk or Treat events this fall!  Bring your donation to the event!\n\n\n                \n                        \n                            Collaborating over Coffee at NewFed Mortgage\n                            Start your day networking! \n                        \n                        Name*\n                            \n                            \n                                                    \n                                                    First\n                                                \n                            \n                            \n                                                    \n                                                    Last\n                                                \n                            \n                        Company*Phone*Email*\n                            \n                        \n          \n            \n            \n            \n            \n            \n            \n            \n            \n            \n            \n            \n            \n            \n        \n                        Δ \n                        \n\n 
URL:https://cranberrycountry.org/event/collaborating-over-coffee-newfed-mortgage/
LOCATION:NewFed Mortgage\, 4 Court Street\, Taunton\, MA\, 02780
CATEGORIES:Networking
ATTACH;FMTTYPE=image/png:https://cranberrycountry.org/wp-content/uploads/2025/12/NewFed-Mortgage.png
END:VEVENT
END:VCALENDAR