BEGIN:VCALENDAR
VERSION:2.0
PRODID:-//Cranberry Country Chamber of Commerce - ECPv6.15.20//NONSGML v1.0//EN
CALSCALE:GREGORIAN
METHOD:PUBLISH
X-WR-CALNAME:Cranberry Country Chamber of Commerce
X-ORIGINAL-URL:https://cranberrycountry.org
X-WR-CALDESC:Events for Cranberry Country Chamber of Commerce
REFRESH-INTERVAL;VALUE=DURATION:PT1H
X-Robots-Tag:noindex
X-PUBLISHED-TTL:PT1H
BEGIN:VTIMEZONE
TZID:America/New_York
BEGIN:DAYLIGHT
TZOFFSETFROM:-0500
TZOFFSETTO:-0400
TZNAME:EDT
DTSTART:20240310T070000
END:DAYLIGHT
BEGIN:STANDARD
TZOFFSETFROM:-0400
TZOFFSETTO:-0500
TZNAME:EST
DTSTART:20241103T060000
END:STANDARD
BEGIN:DAYLIGHT
TZOFFSETFROM:-0500
TZOFFSETTO:-0400
TZNAME:EDT
DTSTART:20250309T070000
END:DAYLIGHT
BEGIN:STANDARD
TZOFFSETFROM:-0400
TZOFFSETTO:-0500
TZNAME:EST
DTSTART:20251102T060000
END:STANDARD
BEGIN:DAYLIGHT
TZOFFSETFROM:-0500
TZOFFSETTO:-0400
TZNAME:EDT
DTSTART:20260308T070000
END:DAYLIGHT
BEGIN:STANDARD
TZOFFSETFROM:-0400
TZOFFSETTO:-0500
TZNAME:EST
DTSTART:20261101T060000
END:STANDARD
END:VTIMEZONE
BEGIN:VEVENT
DTSTART;TZID=America/New_York:20250321T090000
DTEND;TZID=America/New_York:20250321T100000
DTSTAMP:20260420T043251
CREATED:20241217T113847Z
LAST-MODIFIED:20250303T171915Z
UID:10000441-1742547600-1742551200@cranberrycountry.org
SUMMARY:Learn how LinkedIn can work for you! Session 2
DESCRIPTION:Is LinkedIn working for you\, or does it feel like a missed opportunity? \n Want to make a real impact but not sure how? \n Join us for Part 2 of the LinkedIn Basics and discover how to build your presence\, expand your network\, and maximize your influence! \n Friday\, March 21\, 9:00 – 10:00 a.m.\nCranberry Country Chamber Conference Room\n9 Clayton Road\, Middleboro\n\nOops! We could not locate your form.
URL:https://cranberrycountry.org/event/learn-how-linkedin-can-work-for-you-session-2/
LOCATION:Cranberry Country Chamber Office\, 9 Clayton Road\, Middleboro\, MA\, United States
CATEGORIES:Speaker Series
ATTACH;FMTTYPE=image/jpeg:https://cranberrycountry.org/wp-content/uploads/2022/09/Grammar-Goddess.jpg
END:VEVENT
END:VCALENDAR