BEGIN:VCALENDAR
VERSION:2.0
PRODID:-//Cranberry Country Chamber of Commerce - ECPv6.15.20//NONSGML v1.0//EN
CALSCALE:GREGORIAN
METHOD:PUBLISH
X-WR-CALNAME:Cranberry Country Chamber of Commerce
X-ORIGINAL-URL:https://cranberrycountry.org
X-WR-CALDESC:Events for Cranberry Country Chamber of Commerce
REFRESH-INTERVAL;VALUE=DURATION:PT1H
X-Robots-Tag:noindex
X-PUBLISHED-TTL:PT1H
BEGIN:VTIMEZONE
TZID:America/New_York
BEGIN:DAYLIGHT
TZOFFSETFROM:-0500
TZOFFSETTO:-0400
TZNAME:EDT
DTSTART:20230312T070000
END:DAYLIGHT
BEGIN:STANDARD
TZOFFSETFROM:-0400
TZOFFSETTO:-0500
TZNAME:EST
DTSTART:20231105T060000
END:STANDARD
BEGIN:DAYLIGHT
TZOFFSETFROM:-0500
TZOFFSETTO:-0400
TZNAME:EDT
DTSTART:20240310T070000
END:DAYLIGHT
BEGIN:STANDARD
TZOFFSETFROM:-0400
TZOFFSETTO:-0500
TZNAME:EST
DTSTART:20241103T060000
END:STANDARD
BEGIN:DAYLIGHT
TZOFFSETFROM:-0500
TZOFFSETTO:-0400
TZNAME:EDT
DTSTART:20250309T070000
END:DAYLIGHT
BEGIN:STANDARD
TZOFFSETFROM:-0400
TZOFFSETTO:-0500
TZNAME:EST
DTSTART:20251102T060000
END:STANDARD
END:VTIMEZONE
BEGIN:VEVENT
DTSTART;TZID=America/New_York:20241210T170000
DTEND;TZID=America/New_York:20241210T190000
DTSTAMP:20260421T180551
CREATED:20241002T171820Z
LAST-MODIFIED:20241119T190828Z
UID:10000410-1733850000-1733857200@cranberrycountry.org
SUMMARY:Holiday Business After Hours - Lorenzo's
DESCRIPTION:It’s the most wonderful time of the year…. \nOur Holiday Business After Hours at Lorenzo’s Italian Restaurant!\nTuesday\, December 10th  5:00 – 7:00 pm\nJoin us for some Yuletide networking!  Appetizers\, Cash Bar\nSee below for gift ideas for 2 families (if wrapped\,add name; or can be unwrapped)\nFAMILY 1 \nMASON age 10\nClothing Size M Adult | Shoe 6/7\nWWE Wrestling gifts\nRoblox gift card\nLegos\nMom and Dad – Gift cert to local Chamber member restaurants\, Trucchis\nFAMILY 2\n Alex  age 11\nSize – extra large kids\nOuter space\, Science toys\, Dinosaurs\, Clay\nTowers | Bridges | Water Towers … ex: STEM EXPLORERS BRIDGES/BUILDING\, Engino- STEM Toys\, Buildings & Bridges\, Construction Toys for Kids\nMom – Danielle \nClothing  large / XL  |  Shoe 7.5 – 9\nGift certificate local Chamber restaurant\, Trucchis\n \nWe will also announce our Networker of the Year from our Year Long Raffle!\nOops! We could not locate your form. \n  \n 
URL:https://cranberrycountry.org/event/holiday-business-after-hours-lorenzos/
LOCATION:Lorenzo’s Italian Restaurant\, 500 W. Grove Street\, Middleboro\, MA\, 02346\, United States
CATEGORIES:Networking
ATTACH;FMTTYPE=image/png:https://cranberrycountry.org/wp-content/uploads/2022/09/lorenzos-e1667235508431.png
END:VEVENT
BEGIN:VEVENT
DTSTART;TZID=America/New_York:20241213T080000
DTEND;TZID=America/New_York:20241213T093000
DTSTAMP:20260421T180551
CREATED:20241025T160352Z
LAST-MODIFIED:20241025T162535Z
UID:10000423-1734076800-1734082200@cranberrycountry.org
SUMMARY:Collaborating & Celebrating over Coffee
DESCRIPTION:Join us over refreshments for free at our Collaborating and Celebrating over Coffee this winter season!  Meet and network with our Ambassadors\, Board of Directors\, and members of our Community Involvement Council in a festive environment!\nWear your holiday attire….ugly / funny / festive…if you want!\nSponsored by Southcoast Marketing Group\nCranberry Country Chamber office | 9 Clayton Road | Middleboro\nFriday\, December 13th  8:00 – 9:30 am\nMust register to attend so that we have counts for food!\nOops! We could not locate your form. \n 
URL:https://cranberrycountry.org/event/collaborating-celebrating-over-coffee/
LOCATION:Cranberry Country Chamber Office\, 9 Clayton Road\, Middleboro\, MA\, United States
CATEGORIES:Networking
ATTACH;FMTTYPE=image/png:https://cranberrycountry.org/wp-content/uploads/2023/02/southcoast-marketing-new.png
END:VEVENT
BEGIN:VEVENT
DTSTART;TZID=America/New_York:20241213T090000
DTEND;TZID=America/New_York:20241213T100000
DTSTAMP:20260421T180551
CREATED:20241205T130945Z
LAST-MODIFIED:20250106T165454Z
UID:10000174-1734080400-1734084000@cranberrycountry.org
SUMMARY:Community Involvement Council Meeting
DESCRIPTION:  \nCommunity Involvement Council \nMeeting 2nd Friday of each month   9:00 – 10:00 am\nCranberry Country Chamber office – 9 Clayton Road\, Middleboro\n\nTo learn more contact Pam at pdziura@cranberrycountry.org
URL:https://cranberrycountry.org/event/community-involvement-council-meeting-2-2/
LOCATION:Cranberry Country Chamber Office\, 9 Clayton Road\, Middleboro\, MA\, United States
CATEGORIES:Community Involvement
ATTACH;FMTTYPE=image/png:https://cranberrycountry.org/wp-content/uploads/2022/12/Go-giver.png
END:VEVENT
END:VCALENDAR