BEGIN:VCALENDAR
VERSION:2.0
PRODID:-//Cranberry Country Chamber of Commerce - ECPv6.15.20//NONSGML v1.0//EN
CALSCALE:GREGORIAN
METHOD:PUBLISH
X-WR-CALNAME:Cranberry Country Chamber of Commerce
X-ORIGINAL-URL:https://cranberrycountry.org
X-WR-CALDESC:Events for Cranberry Country Chamber of Commerce
REFRESH-INTERVAL;VALUE=DURATION:PT1H
X-Robots-Tag:noindex
X-PUBLISHED-TTL:PT1H
BEGIN:VTIMEZONE
TZID:America/New_York
BEGIN:DAYLIGHT
TZOFFSETFROM:-0500
TZOFFSETTO:-0400
TZNAME:EDT
DTSTART:20210314T070000
END:DAYLIGHT
BEGIN:STANDARD
TZOFFSETFROM:-0400
TZOFFSETTO:-0500
TZNAME:EST
DTSTART:20211107T060000
END:STANDARD
BEGIN:DAYLIGHT
TZOFFSETFROM:-0500
TZOFFSETTO:-0400
TZNAME:EDT
DTSTART:20220313T070000
END:DAYLIGHT
BEGIN:STANDARD
TZOFFSETFROM:-0400
TZOFFSETTO:-0500
TZNAME:EST
DTSTART:20221106T060000
END:STANDARD
BEGIN:DAYLIGHT
TZOFFSETFROM:-0500
TZOFFSETTO:-0400
TZNAME:EDT
DTSTART:20230312T070000
END:DAYLIGHT
BEGIN:STANDARD
TZOFFSETFROM:-0400
TZOFFSETTO:-0500
TZNAME:EST
DTSTART:20231105T060000
END:STANDARD
END:VTIMEZONE
BEGIN:VEVENT
DTSTART;TZID=America/New_York:20221121T100000
DTEND;TZID=America/New_York:20221121T120000
DTSTAMP:20260421T054602
CREATED:20211130T133434Z
LAST-MODIFIED:20221025T223900Z
UID:10000032-1669024800-1669032000@cranberrycountry.org
SUMMARY:Mass Development Support
DESCRIPTION:  \nMassDevelopment is holding monthly office hours at the Cranberry Country Chambers to discuss financing options for manufacturing and non-profit businesses and apartment project development as well as grant opportunities for municipalities  10:00 am – 12:00 pm.\nEmail jpateakos@massdevelopment.com
URL:https://cranberrycountry.org/event/mass-development-support-11/2022-11-21/
LOCATION:CCCC Office
CATEGORIES:Grant Opportunities,MassDevelopment
ATTACH;FMTTYPE=image/jpeg:https://cranberrycountry.org/wp-content/uploads/2021/11/Mass-Development-300x64-1.jpg
END:VEVENT
BEGIN:VEVENT
DTSTART;VALUE=DATE:20221124
DTEND;VALUE=DATE:20221125
DTSTAMP:20260421T054602
CREATED:20221121T133204Z
LAST-MODIFIED:20221121T133234Z
UID:10000109-1669248000-1669334399@cranberrycountry.org
SUMMARY:Thanksgiving Day
DESCRIPTION:  \nThe Office Will be Closed on Thursday\, November 24th for Thanksgiving.
URL:https://cranberrycountry.org/event/thanksgiving-day/
LOCATION:MA
ATTACH;FMTTYPE=image/png:https://cranberrycountry.org/wp-content/uploads/2022/11/cornucopia.png
END:VEVENT
END:VCALENDAR