BEGIN:VCALENDAR
VERSION:2.0
PRODID:-//Cranberry Country Chamber of Commerce - ECPv6.15.20//NONSGML v1.0//EN
CALSCALE:GREGORIAN
METHOD:PUBLISH
X-WR-CALNAME:Cranberry Country Chamber of Commerce
X-ORIGINAL-URL:https://cranberrycountry.org
X-WR-CALDESC:Events for Cranberry Country Chamber of Commerce
REFRESH-INTERVAL;VALUE=DURATION:PT1H
X-Robots-Tag:noindex
X-PUBLISHED-TTL:PT1H
BEGIN:VTIMEZONE
TZID:America/New_York
BEGIN:DAYLIGHT
TZOFFSETFROM:-0500
TZOFFSETTO:-0400
TZNAME:EDT
DTSTART:20220313T070000
END:DAYLIGHT
BEGIN:STANDARD
TZOFFSETFROM:-0400
TZOFFSETTO:-0500
TZNAME:EST
DTSTART:20221106T060000
END:STANDARD
BEGIN:DAYLIGHT
TZOFFSETFROM:-0500
TZOFFSETTO:-0400
TZNAME:EDT
DTSTART:20230312T070000
END:DAYLIGHT
BEGIN:STANDARD
TZOFFSETFROM:-0400
TZOFFSETTO:-0500
TZNAME:EST
DTSTART:20231105T060000
END:STANDARD
BEGIN:DAYLIGHT
TZOFFSETFROM:-0500
TZOFFSETTO:-0400
TZNAME:EDT
DTSTART:20240310T070000
END:DAYLIGHT
BEGIN:STANDARD
TZOFFSETFROM:-0400
TZOFFSETTO:-0500
TZNAME:EST
DTSTART:20241103T060000
END:STANDARD
END:VTIMEZONE
BEGIN:VEVENT
DTSTART;TZID=America/New_York:20230804T080000
DTEND;TZID=America/New_York:20230804T090000
DTSTAMP:20260420T092008
CREATED:20230616T164745Z
LAST-MODIFIED:20230616T165331Z
UID:10000263-1691136000-1691139600@cranberrycountry.org
SUMMARY:Network in Nature August 4
DESCRIPTION:Network in Nature\nLet’s meet near Loon Pond Lodge at Ted Williams Camp Lakeville\nOff Bedford Street or Precinct St.\n Friday\, August 4  8:00 – 9:00 am   – FREE\nBring your coffee\, water\, or energy drink & comfy shoes\n(and maybe bug spray\, too?)\nLet’s network outside in a relaxed\, beautiful atmosphere…our Friday Frolick!\n[Weather permitting of course]\nFridays:  July 7 and 21\, August 4 and 18\, September 1 and 15\, 2023\nOops! We could not locate your form.
URL:https://cranberrycountry.org/event/network-in-nature-august-4/
LOCATION:Loon Pond Lodge\, 28 Precinct Street\, Lakeville\, MA\, 02347\, United States
CATEGORIES:Networking
ATTACH;FMTTYPE=image/png:https://cranberrycountry.org/wp-content/uploads/2023/04/N-in-N-top-of-event-page.png
END:VEVENT
BEGIN:VEVENT
DTSTART;TZID=America/New_York:20230811T090000
DTEND;TZID=America/New_York:20230811T100000
DTSTAMP:20260420T092008
CREATED:20221213T160156Z
LAST-MODIFIED:20240904T144442Z
UID:10000158-1691744400-1691748000@cranberrycountry.org
SUMMARY:Community Involvement Council Meeting
DESCRIPTION:  \nCommunity Involvement Council \nMeeting 2nd Friday of each month   9:00 – 10:00 am\nCranberry Country Chamber office – 9 Clayton Road\, Middleboro\nSEPTEMBER MEETING CANCELLED!\nTo learn more contact Pam at pdziura@cranberrycountry.org
URL:https://cranberrycountry.org/event/community-involvement-council-meeting-2/2023-08-11/
LOCATION:Cranberry Country Chamber Office\, 9 Clayton Road\, Middleboro\, MA\, United States
CATEGORIES:Community Involvement
ATTACH;FMTTYPE=image/png:https://cranberrycountry.org/wp-content/uploads/2022/12/Go-giver.png
END:VEVENT
BEGIN:VEVENT
DTSTART;TZID=America/New_York:20230818T080000
DTEND;TZID=America/New_York:20230818T090000
DTSTAMP:20260420T092008
CREATED:20230616T164859Z
LAST-MODIFIED:20230616T164859Z
UID:10000264-1692345600-1692349200@cranberrycountry.org
SUMMARY:Network in Nature August 18
DESCRIPTION:Network in Nature\nLet’s meet near Loon Pond Lodge at Ted Williams Camp Lakeville\nOff Bedford Street or Precinct St.\n  Friday\, August 18th  8:00 – 9:00 am   – FREE\nBring your coffee\, water\, or energy drink & comfy shoes\n(and maybe bug spray\, too?)\nLet’s network outside in a relaxed\, beautiful atmosphere!\n[Weather permitting of course]\nFridays:  July 7 and 21\, August 4 and 18\, September 1 and 15\, 2023\nOops! We could not locate your form.
URL:https://cranberrycountry.org/event/network-in-nature-august-18/
LOCATION:Loon Pond Lodge\, 28 Precinct Street\, Lakeville\, MA\, 02347\, United States
CATEGORIES:Networking
ATTACH;FMTTYPE=image/png:https://cranberrycountry.org/wp-content/uploads/2023/04/N-in-N-top-of-event-page.png
END:VEVENT
BEGIN:VEVENT
DTSTART;TZID=America/New_York:20230823T120000
DTEND;TZID=America/New_York:20230823T133000
DTSTAMP:20260420T092008
CREATED:20230725T134645Z
LAST-MODIFIED:20230726T120459Z
UID:10000269-1692792000-1692797400@cranberrycountry.org
SUMMARY:Broaden Your Business Fisher's Pub
DESCRIPTION:Broaden Your Business\nFisher’s Pub\n360 Wareham St.\, Middleboro\nWednesday\, August 23\, 2023\n12:00 – 1:30 pm\nOops! We could not locate your form.
URL:https://cranberrycountry.org/event/broaden-your-business-fishers-pub-2/
LOCATION:Fisher’s Pub\, 360 Wareham Street\, Middleboro\, MA\, 02346\, United States
CATEGORIES:Luncheon,Networking
ATTACH;FMTTYPE=image/png:https://cranberrycountry.org/wp-content/uploads/2023/02/fishers.png
END:VEVENT
BEGIN:VEVENT
DTSTART;TZID=America/New_York:20230830T100000
DTEND;TZID=America/New_York:20230830T110000
DTSTAMP:20260420T092008
CREATED:20221205T002156Z
LAST-MODIFIED:20221212T144251Z
UID:10000048-1693389600-1693393200@cranberrycountry.org
SUMMARY:Ambassador Leader Meeting
DESCRIPTION:
URL:https://cranberrycountry.org/event/ambassador-meeting-2/2023-08-30/
LOCATION:Cranberry Country Chamber Office\, 9 Clayton Road\, Middleboro\, MA\, United States
CATEGORIES:Ambassador Meeting
ATTACH;FMTTYPE=image/png:https://cranberrycountry.org/wp-content/uploads/2022/10/ambassadors.png
END:VEVENT
END:VCALENDAR