BEGIN:VCALENDAR
VERSION:2.0
PRODID:-//Cranberry Country Chamber of Commerce - ECPv6.15.20//NONSGML v1.0//EN
CALSCALE:GREGORIAN
METHOD:PUBLISH
X-WR-CALNAME:Cranberry Country Chamber of Commerce
X-ORIGINAL-URL:https://cranberrycountry.org
X-WR-CALDESC:Events for Cranberry Country Chamber of Commerce
REFRESH-INTERVAL;VALUE=DURATION:PT1H
X-Robots-Tag:noindex
X-PUBLISHED-TTL:PT1H
BEGIN:VTIMEZONE
TZID:America/New_York
BEGIN:DAYLIGHT
TZOFFSETFROM:-0500
TZOFFSETTO:-0400
TZNAME:EDT
DTSTART:20220313T070000
END:DAYLIGHT
BEGIN:STANDARD
TZOFFSETFROM:-0400
TZOFFSETTO:-0500
TZNAME:EST
DTSTART:20221106T060000
END:STANDARD
BEGIN:DAYLIGHT
TZOFFSETFROM:-0500
TZOFFSETTO:-0400
TZNAME:EDT
DTSTART:20230312T070000
END:DAYLIGHT
BEGIN:STANDARD
TZOFFSETFROM:-0400
TZOFFSETTO:-0500
TZNAME:EST
DTSTART:20231105T060000
END:STANDARD
BEGIN:DAYLIGHT
TZOFFSETFROM:-0500
TZOFFSETTO:-0400
TZNAME:EDT
DTSTART:20240310T070000
END:DAYLIGHT
BEGIN:STANDARD
TZOFFSETFROM:-0400
TZOFFSETTO:-0500
TZNAME:EST
DTSTART:20241103T060000
END:STANDARD
END:VTIMEZONE
BEGIN:VEVENT
DTSTART;TZID=America/New_York:20230707T080000
DTEND;TZID=America/New_York:20230707T090000
DTSTAMP:20260420T091416
CREATED:20230616T164651Z
LAST-MODIFIED:20230616T165541Z
UID:10000262-1688716800-1688720400@cranberrycountry.org
SUMMARY:Network in Nature July 7
DESCRIPTION:We continue our Friday Frolick as we\nNetwork in Nature\nLet’s meet near Loon Pond Lodge at Ted Williams Camp Lakeville\nOff Bedford Street or Precinct St.\nFriday\, July 7th  8:00 – 9:00 am   – FREE\nBring your coffee\, water\, or energy drink & comfy shoes\n(and maybe bug spray\, too?)\nLet’s network outside in a relaxed\, beautiful atmosphere!\n[Weather permitting of course]\nFridays:  July 7 and 21\, August 4 and 18\, September 1 and 15\, 2023\nOops! We could not locate your form.
URL:https://cranberrycountry.org/event/network-in-nature-july-7/
LOCATION:Loon Pond Lodge\, 28 Precinct Street\, Lakeville\, MA\, 02347\, United States
CATEGORIES:Networking
ATTACH;FMTTYPE=image/png:https://cranberrycountry.org/wp-content/uploads/2023/04/N-in-N-top-of-event-page.png
END:VEVENT
BEGIN:VEVENT
DTSTART;TZID=America/New_York:20230712T120000
DTEND;TZID=America/New_York:20230712T133000
DTSTAMP:20260420T091416
CREATED:20230607T153636Z
LAST-MODIFIED:20230607T220420Z
UID:10000241-1689163200-1689168600@cranberrycountry.org
SUMMARY:Broaden Your Business at The Local Eatery
DESCRIPTION:Pre-order your lunch choice.  See below and fill in box.\nOops! We could not locate your form. \n 
URL:https://cranberrycountry.org/event/broaden-your-business-at-the-local-eatery/
LOCATION:The Local Eatery\, 16 Wareham Street\, Middleboro\, MA\, 02346
CATEGORIES:Luncheon,Networking
ATTACH;FMTTYPE=image/jpeg:https://cranberrycountry.org/wp-content/uploads/2023/06/local-eatery.jpg
END:VEVENT
BEGIN:VEVENT
DTSTART;TZID=America/New_York:20230714T090000
DTEND;TZID=America/New_York:20230714T100000
DTSTAMP:20260420T091416
CREATED:20221213T160156Z
LAST-MODIFIED:20240904T144442Z
UID:10000157-1689325200-1689328800@cranberrycountry.org
SUMMARY:Community Involvement Council Meeting
DESCRIPTION:  \nCommunity Involvement Council \nMeeting 2nd Friday of each month   9:00 – 10:00 am\nCranberry Country Chamber office – 9 Clayton Road\, Middleboro\nSEPTEMBER MEETING CANCELLED!\nTo learn more contact Pam at pdziura@cranberrycountry.org
URL:https://cranberrycountry.org/event/community-involvement-council-meeting-2/2023-07-14/
LOCATION:Cranberry Country Chamber Office\, 9 Clayton Road\, Middleboro\, MA\, United States
CATEGORIES:Community Involvement
ATTACH;FMTTYPE=image/png:https://cranberrycountry.org/wp-content/uploads/2022/12/Go-giver.png
END:VEVENT
BEGIN:VEVENT
DTSTART;TZID=America/New_York:20230717T073000
DTEND;TZID=America/New_York:20230717T163000
DTSTAMP:20260420T091416
CREATED:20221104T151148Z
LAST-MODIFIED:20230526T163856Z
UID:10000104-1689579000-1689611400@cranberrycountry.org
SUMMARY:Golf Outing 2023
DESCRIPTION:Oops! We could not locate your form.  \nJoin these Sponsors in getting recognized at our event!\nGift:  Bluestone Bank\, Morton Hospital\nCart:  T.M Ryder Insurance Agency\nBeverage Cart:  St. Anne’s Credit Union\nFlag:  Sysco\nDinner: Taunton Federal Credit Union\nScholar:  Ocean Spray\nAce:  Cape Cod Five\, Claremont Management\, HarborOne Bank\, Mechanics    Cooperative Bank\, Mid-Cape Home Centers\, Rockland Trust\nPutting Contest:  J.K. Olivieri Insurance Agency/World Insurance Associates
URL:https://cranberrycountry.org/event/golf-outing-2023-2/
LOCATION:Poquoy Brook Golf Club\, 20 Leonard Street\, Lakeville\, 02347
CATEGORIES:Golf Open,Networking
ATTACH;FMTTYPE=image/png:https://cranberrycountry.org/wp-content/uploads/2022/11/golf-ball-with-hat.png
END:VEVENT
BEGIN:VEVENT
DTSTART;TZID=America/New_York:20230720T170000
DTEND;TZID=America/New_York:20230720T190000
DTSTAMP:20260420T091416
CREATED:20230330T203851Z
LAST-MODIFIED:20230424T154156Z
UID:10000228-1689872400-1689879600@cranberrycountry.org
SUMMARY:Christmas in July at Lorenzos
DESCRIPTION:Join us for our annual summer event at Lorenzo’s!  \n \nJoin our Community Involvement Council in our campaign for School on Wheels by donating Back to School items that will be distributed to over 8\,000 needy students in our Chamber region:\nBackpacks\, Pencils\, Pens\, Notebooks\, Rules\, Erasers\, White Board markers\, Crayons\, Markers\, Glue Sticks\, Highlighters\nOops! We could not locate your form.
URL:https://cranberrycountry.org/event/christmas-in-july-at-lorenzos/
LOCATION:Lorenzo’s Italian Restaurant\, 500 W. Grove Street\, Middleboro\, MA\, 02346\, United States
CATEGORIES:Networking
ATTACH;FMTTYPE=image/png:https://cranberrycountry.org/wp-content/uploads/2022/09/lorenzos-e1667235508431.png
END:VEVENT
BEGIN:VEVENT
DTSTART;TZID=America/New_York:20230721T080000
DTEND;TZID=America/New_York:20230721T090000
DTSTAMP:20260420T091416
CREATED:20230616T164538Z
LAST-MODIFIED:20230616T165440Z
UID:10000261-1689926400-1689930000@cranberrycountry.org
SUMMARY:Network in Nature July 21st
DESCRIPTION:Network in Nature\nLet’s meet near Loon Pond Lodge at Ted Williams Camp Lakeville\nOff Bedford Street or Precinct St.\nFriday\, July 21   8:00 – 9:00 am   – FREE\nBring your coffee\, water\, or energy drink & comfy shoes\nduring our Friday Frolick as we network!\n(and maybe bug spray\, too?)\nLet’s network outside in a relaxed\, beautiful atmosphere!\n[Weather permitting of course]\nFridays:  July 7 and 21\, August 4 and 18\, September 1 and 15\, 2023\nOops! We could not locate your form.
URL:https://cranberrycountry.org/event/network-in-nature-july-21st/
LOCATION:Loon Pond Lodge\, 28 Precinct Street\, Lakeville\, MA\, 02347\, United States
CATEGORIES:Networking
ATTACH;FMTTYPE=image/png:https://cranberrycountry.org/wp-content/uploads/2023/04/N-in-N-top-of-event-page.png
END:VEVENT
BEGIN:VEVENT
DTSTART;TZID=America/New_York:20230726T100000
DTEND;TZID=America/New_York:20230726T110000
DTSTAMP:20260420T091416
CREATED:20221205T002156Z
LAST-MODIFIED:20221212T144251Z
UID:10000047-1690365600-1690369200@cranberrycountry.org
SUMMARY:Ambassador Leader Meeting
DESCRIPTION:
URL:https://cranberrycountry.org/event/ambassador-meeting-2/2023-07-26/
LOCATION:Cranberry Country Chamber Office\, 9 Clayton Road\, Middleboro\, MA\, United States
CATEGORIES:Ambassador Meeting
ATTACH;FMTTYPE=image/png:https://cranberrycountry.org/wp-content/uploads/2022/10/ambassadors.png
END:VEVENT
END:VCALENDAR