BEGIN:VCALENDAR
VERSION:2.0
PRODID:-//Cranberry Country Chamber of Commerce - ECPv6.15.20//NONSGML v1.0//EN
CALSCALE:GREGORIAN
METHOD:PUBLISH
X-WR-CALNAME:Cranberry Country Chamber of Commerce
X-ORIGINAL-URL:https://cranberrycountry.org
X-WR-CALDESC:Events for Cranberry Country Chamber of Commerce
REFRESH-INTERVAL;VALUE=DURATION:PT1H
X-Robots-Tag:noindex
X-PUBLISHED-TTL:PT1H
BEGIN:VTIMEZONE
TZID:America/New_York
BEGIN:DAYLIGHT
TZOFFSETFROM:-0500
TZOFFSETTO:-0400
TZNAME:EDT
DTSTART:20240310T070000
END:DAYLIGHT
BEGIN:STANDARD
TZOFFSETFROM:-0400
TZOFFSETTO:-0500
TZNAME:EST
DTSTART:20241103T060000
END:STANDARD
BEGIN:DAYLIGHT
TZOFFSETFROM:-0500
TZOFFSETTO:-0400
TZNAME:EDT
DTSTART:20250309T070000
END:DAYLIGHT
BEGIN:STANDARD
TZOFFSETFROM:-0400
TZOFFSETTO:-0500
TZNAME:EST
DTSTART:20251102T060000
END:STANDARD
BEGIN:DAYLIGHT
TZOFFSETFROM:-0500
TZOFFSETTO:-0400
TZNAME:EDT
DTSTART:20260308T070000
END:DAYLIGHT
BEGIN:STANDARD
TZOFFSETFROM:-0400
TZOFFSETTO:-0500
TZNAME:EST
DTSTART:20261101T060000
END:STANDARD
END:VTIMEZONE
BEGIN:VEVENT
DTSTART;TZID=America/New_York:20251029T083000
DTEND;TZID=America/New_York:20251029T093000
DTSTAMP:20260426T002621
CREATED:20250829T153331Z
LAST-MODIFIED:20250829T153331Z
UID:10000501-1761726600-1761730200@cranberrycountry.org
SUMMARY:Rise & Thrive - Communicating with Impact
DESCRIPTION:Join us for our new morning program “RISE & THRIVE”\nHeld at the  Cranberry Country Chamber offices\, join us for one hour each month to learn how to work with others\, lead more effectively\, and many other topics!\nThis month’s topic:\nCommunicating with Impact \nEffective communication is critical to both personal and organizational success.  Yet\, we often feel frustrated spending a lot of time and energy communicating but don’t get the results we  want.  In this workshop\, you will discover four distinct types of workplace conversations we need to have on a regular basis and learn how to leverage them to create buy-in\, overcome resistance\, inspire action\, and resolve lingering issues that prevent forward progress.\nPresenter:  Sadie Rosethorn\, Sadie Rosethorn Coaching\nWednesday\, October 29\, 2025    8:30 – 9:30 am  FREE\n9 Clayton Road\, Middleboro MA\nPlease pre-register.\nOops! We could not locate your form.
URL:https://cranberrycountry.org/event/rise-thrive-communicating-with-impact/
LOCATION:MA
CATEGORIES:Member Event,Speaker Series
ATTACH;FMTTYPE=image/png:https://cranberrycountry.org/wp-content/uploads/2025/08/Sadie-Rosethorn-Tag-Color-002.png
END:VEVENT
END:VCALENDAR