BEGIN:VCALENDAR
VERSION:2.0
PRODID:-//Cranberry Country Chamber of Commerce - ECPv6.15.20//NONSGML v1.0//EN
CALSCALE:GREGORIAN
METHOD:PUBLISH
X-WR-CALNAME:Cranberry Country Chamber of Commerce
X-ORIGINAL-URL:https://cranberrycountry.org
X-WR-CALDESC:Events for Cranberry Country Chamber of Commerce
REFRESH-INTERVAL;VALUE=DURATION:PT1H
X-Robots-Tag:noindex
X-PUBLISHED-TTL:PT1H
BEGIN:VTIMEZONE
TZID:America/New_York
BEGIN:DAYLIGHT
TZOFFSETFROM:-0500
TZOFFSETTO:-0400
TZNAME:EDT
DTSTART:20230312T070000
END:DAYLIGHT
BEGIN:STANDARD
TZOFFSETFROM:-0400
TZOFFSETTO:-0500
TZNAME:EST
DTSTART:20231105T060000
END:STANDARD
BEGIN:DAYLIGHT
TZOFFSETFROM:-0500
TZOFFSETTO:-0400
TZNAME:EDT
DTSTART:20240310T070000
END:DAYLIGHT
BEGIN:STANDARD
TZOFFSETFROM:-0400
TZOFFSETTO:-0500
TZNAME:EST
DTSTART:20241103T060000
END:STANDARD
BEGIN:DAYLIGHT
TZOFFSETFROM:-0500
TZOFFSETTO:-0400
TZNAME:EDT
DTSTART:20250309T070000
END:DAYLIGHT
BEGIN:STANDARD
TZOFFSETFROM:-0400
TZOFFSETTO:-0500
TZNAME:EST
DTSTART:20251102T060000
END:STANDARD
END:VTIMEZONE
BEGIN:VEVENT
DTSTART;TZID=America/New_York:20240522T083000
DTEND;TZID=America/New_York:20240522T093000
DTSTAMP:20260424T214112
CREATED:20240318T143620Z
LAST-MODIFIED:20240318T143620Z
UID:10000316-1716366600-1716370200@cranberrycountry.org
SUMMARY:Success Starts with Mindset Speaker Series
DESCRIPTION:Rockland Trust Speaker Series\nwith Jordan Guadalupe / Souibre\nWednesday\, May 22  8:30 – 9:45 am\nvia Zoom\nClick HERE\nAll too often\, most of us hit psychological barriers to achieving business success and we’re usually completely unaware of it. Here’s the good news- success is 20% action and 80% mindset. That means if you can master your inner world\, you can produce the results you desire in your reality. Join Jordan Guadalupe\, Success Mentor and Certified Professional Transformation Coach as she dives into the components of building a success mindset and how you can leverage them to bring your vision of success in business to life.
URL:https://cranberrycountry.org/event/success-starts-with-mindset-speaker-series/
LOCATION:MA
CATEGORIES:Rockland Trust,Speaker Series
ATTACH;FMTTYPE=image/png:https://cranberrycountry.org/wp-content/uploads/2023/08/Speaker-series-rev.png
END:VEVENT
END:VCALENDAR