BEGIN:VCALENDAR
VERSION:2.0
PRODID:-//Cranberry Country Chamber of Commerce - ECPv6.15.20//NONSGML v1.0//EN
CALSCALE:GREGORIAN
METHOD:PUBLISH
X-ORIGINAL-URL:https://cranberrycountry.org
X-WR-CALDESC:Events for Cranberry Country Chamber of Commerce
REFRESH-INTERVAL;VALUE=DURATION:PT1H
X-Robots-Tag:noindex
X-PUBLISHED-TTL:PT1H
BEGIN:VTIMEZONE
TZID:America/New_York
BEGIN:DAYLIGHT
TZOFFSETFROM:-0500
TZOFFSETTO:-0400
TZNAME:EDT
DTSTART:20230312T070000
END:DAYLIGHT
BEGIN:STANDARD
TZOFFSETFROM:-0400
TZOFFSETTO:-0500
TZNAME:EST
DTSTART:20231105T060000
END:STANDARD
BEGIN:DAYLIGHT
TZOFFSETFROM:-0500
TZOFFSETTO:-0400
TZNAME:EDT
DTSTART:20240310T070000
END:DAYLIGHT
BEGIN:STANDARD
TZOFFSETFROM:-0400
TZOFFSETTO:-0500
TZNAME:EST
DTSTART:20241103T060000
END:STANDARD
BEGIN:DAYLIGHT
TZOFFSETFROM:-0500
TZOFFSETTO:-0400
TZNAME:EDT
DTSTART:20250309T070000
END:DAYLIGHT
BEGIN:STANDARD
TZOFFSETFROM:-0400
TZOFFSETTO:-0500
TZNAME:EST
DTSTART:20251102T060000
END:STANDARD
END:VTIMEZONE
BEGIN:VEVENT
DTSTART;TZID=America/New_York:20240306T083000
DTEND;TZID=America/New_York:20240306T093000
DTSTAMP:20260424T142055
CREATED:20240215T194619Z
LAST-MODIFIED:20240216T133711Z
UID:10000305-1709713800-1709717400@cranberrycountry.org
SUMMARY:Breaking Through the Noise: How Congress Can Provide Tax Certainty and Reduce Red Tape for Small Businesses
DESCRIPTION:Rockland Trust / Cranberry Country Chamber Speaker Series\nWednesday\, March 6th  8:30 – 9:45 am via Zoom\nJoin us as Josh McLeod\, Director of NFIB Federal Government Regulations helps our small businesses \nSmall businesses continue to face significant headwinds\, including high energy costs\, inflation\, workforce shortages\, increasing regulatory burdens\, and tax uncertainty from the expiration of Tax Cuts and Jobs Act (TCJA) provisions\, most notably the small business deduction (199A). On January 1\, 2024\, one of the most expansive small business regulations in history went into effect. This beneficial ownership reporting requirement will require 32.6 million small businesses to report ownership information to the Financial Crimes Enforcement Network (FinCEN). Additionally\, small businesses face a massive tax increase at the end of 2025. Congress must pass the Main Street Tax Certainty Act to provide tax certainty to pass-through businesses across the country. \nREGISTER\nBio:  Josh McLeod is Director of Federal Government Relations at NFIB\, the nation’s leading small business advocacy organization. In this role\, Josh oversees the organization’s regulatory portfolio. Josh came to NFIB after spending nearly 12 years in the U.S. Senate\, working for Senator Ron Johnson. Josh graduated from Widener University in Pennsylvania and lives in Virginia with his wife and three children.
URL:https://cranberrycountry.org/event/breaking-through-the-noise-how-congress-can-provide-tax-certainty-and-reduce-red-tape-for-small-businesses/
LOCATION:Zoom
CATEGORIES:Rockland Trust,Speaker Series
ATTACH;FMTTYPE=image/png:https://cranberrycountry.org/wp-content/uploads/2023/08/Speaker-series-rev.png
END:VEVENT
END:VCALENDAR