BEGIN:VCALENDAR
VERSION:2.0
PRODID:-//Cranberry Country Chamber of Commerce - ECPv6.15.20//NONSGML v1.0//EN
CALSCALE:GREGORIAN
METHOD:PUBLISH
X-ORIGINAL-URL:https://cranberrycountry.org
X-WR-CALDESC:Events for Cranberry Country Chamber of Commerce
REFRESH-INTERVAL;VALUE=DURATION:PT1H
X-Robots-Tag:noindex
X-PUBLISHED-TTL:PT1H
BEGIN:VTIMEZONE
TZID:America/New_York
BEGIN:DAYLIGHT
TZOFFSETFROM:-0500
TZOFFSETTO:-0400
TZNAME:EDT
DTSTART:20230312T070000
END:DAYLIGHT
BEGIN:STANDARD
TZOFFSETFROM:-0400
TZOFFSETTO:-0500
TZNAME:EST
DTSTART:20231105T060000
END:STANDARD
BEGIN:DAYLIGHT
TZOFFSETFROM:-0500
TZOFFSETTO:-0400
TZNAME:EDT
DTSTART:20240310T070000
END:DAYLIGHT
BEGIN:STANDARD
TZOFFSETFROM:-0400
TZOFFSETTO:-0500
TZNAME:EST
DTSTART:20241103T060000
END:STANDARD
BEGIN:DAYLIGHT
TZOFFSETFROM:-0500
TZOFFSETTO:-0400
TZNAME:EDT
DTSTART:20250309T070000
END:DAYLIGHT
BEGIN:STANDARD
TZOFFSETFROM:-0400
TZOFFSETTO:-0500
TZNAME:EST
DTSTART:20251102T060000
END:STANDARD
END:VTIMEZONE
BEGIN:VEVENT
DTSTART;TZID=America/New_York:20240605T083000
DTEND;TZID=America/New_York:20240605T093000
DTSTAMP:20260424T181600
CREATED:20240327T154837Z
LAST-MODIFIED:20240327T155106Z
UID:10000319-1717576200-1717579800@cranberrycountry.org
SUMMARY:What is My Company Worth/Who will Buy it?
DESCRIPTION:Rockland Trust / Cranberry Country Chamber Speaker Series\nWednesday\, June 5\, 2024  |  8:30 am  |  Via ZOOM\nJoin us as Joel Nimar of ROI Corp Business Brokers answers the questions:\nWhat is my company worth and who would buy it?\n\n\nWhat goes into determining value?\n\n\nWhat can I do to increase the value?\n\n\nRole of valuation in making the deal?\n\n\nTypes of buyers\n\n\nWhy 2 companies with the same sales/profit sell for different prices?\n\n\nWho is ROI Business Brokers and Advisors\, and why are we different?\n\n\nREGISTER\n \nBIO: Joel Nimar is a graduate of Northeastern University with a degree in Business administration and a concentration in Finance. He is a serial entrepreneur in multiple industries including IT hardware and services\, home energy audits and bookkeeping and consulting. He currently helps other business owners buy\, sell and value businesses while helping to improve current operations.\nJoel is married with 2 adult children. When not working he is an active tennis player\, golfer\, and biker. He enjoys theatre\, non-profit work and traveling.\n 
URL:https://cranberrycountry.org/event/what-is-my-company-worth-who-will-buy-it/
LOCATION:Zoom
CATEGORIES:Rockland Trust,Speaker Series
ATTACH;FMTTYPE=image/png:https://cranberrycountry.org/wp-content/uploads/2023/08/Speaker-series-rev.png
END:VEVENT
END:VCALENDAR