BEGIN:VCALENDAR
VERSION:2.0
PRODID:-//Cranberry Country Chamber of Commerce - ECPv6.15.20//NONSGML v1.0//EN
CALSCALE:GREGORIAN
METHOD:PUBLISH
X-WR-CALNAME:Cranberry Country Chamber of Commerce
X-ORIGINAL-URL:https://cranberrycountry.org
X-WR-CALDESC:Events for Cranberry Country Chamber of Commerce
REFRESH-INTERVAL;VALUE=DURATION:PT1H
X-Robots-Tag:noindex
X-PUBLISHED-TTL:PT1H
BEGIN:VTIMEZONE
TZID:America/New_York
BEGIN:DAYLIGHT
TZOFFSETFROM:-0500
TZOFFSETTO:-0400
TZNAME:EDT
DTSTART:20230312T070000
END:DAYLIGHT
BEGIN:STANDARD
TZOFFSETFROM:-0400
TZOFFSETTO:-0500
TZNAME:EST
DTSTART:20231105T060000
END:STANDARD
BEGIN:DAYLIGHT
TZOFFSETFROM:-0500
TZOFFSETTO:-0400
TZNAME:EDT
DTSTART:20240310T070000
END:DAYLIGHT
BEGIN:STANDARD
TZOFFSETFROM:-0400
TZOFFSETTO:-0500
TZNAME:EST
DTSTART:20241103T060000
END:STANDARD
BEGIN:DAYLIGHT
TZOFFSETFROM:-0500
TZOFFSETTO:-0400
TZNAME:EDT
DTSTART:20250309T070000
END:DAYLIGHT
BEGIN:STANDARD
TZOFFSETFROM:-0400
TZOFFSETTO:-0500
TZNAME:EST
DTSTART:20251102T060000
END:STANDARD
END:VTIMEZONE
BEGIN:VEVENT
DTSTART;TZID=America/New_York:20241101T080000
DTEND;TZID=America/New_York:20241101T150000
DTSTAMP:20260421T101940
CREATED:20240617T170427Z
LAST-MODIFIED:20241023T175520Z
UID:10000335-1730448000-1730473200@cranberrycountry.org
SUMMARY:Elements for Excellence 2024
DESCRIPTION:        Join us for our Elements for Excellence Women’s Conference\na day of personal and professional development\nFriday\, November 1\, 2024  8:00 am – 3 pm\nRosebrook Event Center | 50 Rosebrook Place | Wareham\, MA\nDress Casual and Comfortable\nSponsorships available…see below  |  $75/person \nRegistration includes continental breakfast and lunch\nSpeakers:  \nLauren Lemieux\, Coaching to Fulfill Dreams | Pascale Cook-Fernandes | Stacy Shipman\n \nSPONSORS:    EMPOWER – BLUESTONE BANK \n                         ENLIGHTEN – PET RECESS | TAUNTON FEDERAL CREDIT UNION | TM RYDER                                                            INSURANCE AGENCY \n                          ENRICH:  MORTON HOSPITAL \nOops! We could not locate your form.
URL:https://cranberrycountry.org/event/elements-for-excellence-2024/
LOCATION:Rosebrook Event Center\, 50 Rosebrook Place\, Wareham\, MA\, United States
CATEGORIES:Networking,Personal & Professional Development
ATTACH;FMTTYPE=image/png:https://cranberrycountry.org/wp-content/uploads/2024/06/efe-logo.png
END:VEVENT
END:VCALENDAR