BEGIN:VCALENDAR
VERSION:2.0
PRODID:-//Cranberry Country Chamber of Commerce - ECPv6.15.20//NONSGML v1.0//EN
CALSCALE:GREGORIAN
METHOD:PUBLISH
X-WR-CALNAME:Cranberry Country Chamber of Commerce
X-ORIGINAL-URL:https://cranberrycountry.org
X-WR-CALDESC:Events for Cranberry Country Chamber of Commerce
REFRESH-INTERVAL;VALUE=DURATION:PT1H
X-Robots-Tag:noindex
X-PUBLISHED-TTL:PT1H
BEGIN:VTIMEZONE
TZID:America/New_York
BEGIN:DAYLIGHT
TZOFFSETFROM:-0500
TZOFFSETTO:-0400
TZNAME:EDT
DTSTART:20220313T070000
END:DAYLIGHT
BEGIN:STANDARD
TZOFFSETFROM:-0400
TZOFFSETTO:-0500
TZNAME:EST
DTSTART:20221106T060000
END:STANDARD
BEGIN:DAYLIGHT
TZOFFSETFROM:-0500
TZOFFSETTO:-0400
TZNAME:EDT
DTSTART:20230312T070000
END:DAYLIGHT
BEGIN:STANDARD
TZOFFSETFROM:-0400
TZOFFSETTO:-0500
TZNAME:EST
DTSTART:20231105T060000
END:STANDARD
BEGIN:DAYLIGHT
TZOFFSETFROM:-0500
TZOFFSETTO:-0400
TZNAME:EDT
DTSTART:20240310T070000
END:DAYLIGHT
BEGIN:STANDARD
TZOFFSETFROM:-0400
TZOFFSETTO:-0500
TZNAME:EST
DTSTART:20241103T060000
END:STANDARD
END:VTIMEZONE
BEGIN:VEVENT
DTSTART;TZID=America/New_York:20231027T080000
DTEND;TZID=America/New_York:20231027T153000
DTSTAMP:20260422T114449
CREATED:20230825T145618Z
LAST-MODIFIED:20231024T145729Z
UID:10000274-1698393600-1698420600@cranberrycountry.org
SUMMARY:Elements for Excellence
DESCRIPTION:JOIN US AT OUR ANNUAL ELEMENTS FOR EXCELLENCE\nA WOMEN’S \nPERSONAL AND PROFESSIONAL DEVELOPMENT DAY\n  \nFRIDAY\, OCTOBER 27\, 2023\n8:00 AM REGISTRATION\nROSEBROOK EVENT CENTER\n50 ROSEBROOK PLACE\, WAREHAM\, MA\nCALL PAM ABOUT REGISTRATION FOR THIS EVENT \nThank you to our sponsors:\n EMPOWER\n \n ENLIGHTEN\n \n \n \n \n \n \n  \n \n \n ENRICH
URL:https://cranberrycountry.org/event/elements-for-excellence-2/
LOCATION:Rosebrook Event Center\, 50 Rosebrook Place\, Wareham\, MA\, United States
CATEGORIES:Networking,Personal & Professional Development
ATTACH;FMTTYPE=image/png:https://cranberrycountry.org/wp-content/uploads/2023/08/EFE-2023.png
END:VEVENT
END:VCALENDAR