BEGIN:VCALENDAR
VERSION:2.0
PRODID:-//Cranberry Country Chamber of Commerce - ECPv6.15.20//NONSGML v1.0//EN
CALSCALE:GREGORIAN
METHOD:PUBLISH
X-ORIGINAL-URL:https://cranberrycountry.org
X-WR-CALDESC:Events for Cranberry Country Chamber of Commerce
REFRESH-INTERVAL;VALUE=DURATION:PT1H
X-Robots-Tag:noindex
X-PUBLISHED-TTL:PT1H
BEGIN:VTIMEZONE
TZID:America/New_York
BEGIN:DAYLIGHT
TZOFFSETFROM:-0500
TZOFFSETTO:-0400
TZNAME:EDT
DTSTART:20220313T070000
END:DAYLIGHT
BEGIN:STANDARD
TZOFFSETFROM:-0400
TZOFFSETTO:-0500
TZNAME:EST
DTSTART:20221106T060000
END:STANDARD
BEGIN:DAYLIGHT
TZOFFSETFROM:-0500
TZOFFSETTO:-0400
TZNAME:EDT
DTSTART:20230312T070000
END:DAYLIGHT
BEGIN:STANDARD
TZOFFSETFROM:-0400
TZOFFSETTO:-0500
TZNAME:EST
DTSTART:20231105T060000
END:STANDARD
BEGIN:DAYLIGHT
TZOFFSETFROM:-0500
TZOFFSETTO:-0400
TZNAME:EDT
DTSTART:20240310T070000
END:DAYLIGHT
BEGIN:STANDARD
TZOFFSETFROM:-0400
TZOFFSETTO:-0500
TZNAME:EST
DTSTART:20241103T060000
END:STANDARD
END:VTIMEZONE
BEGIN:VEVENT
DTSTART;TZID=America/New_York:20230426T170000
DTEND;TZID=America/New_York:20230426T200000
DTSTAMP:20260422T035304
CREATED:20230324T132123Z
LAST-MODIFIED:20230324T132123Z
UID:10000226-1682528400-1682539200@cranberrycountry.org
SUMMARY:Cape & Plymouth Business 40 Under 40 Alum
DESCRIPTION:Cranberry Country Chamber of Commerce\nis a proud sponsor of this event!\nREGISTER HERE
URL:https://cranberrycountry.org/event/cape-plymouth-business-40-under-40-alum/
LOCATION:Ten Pin Eatery\, 769 Iyannough Rd\, Hyannis\, MA\, 02601
CATEGORIES:Member Event
ATTACH;FMTTYPE=image/png:https://cranberrycountry.org/wp-content/uploads/2022/09/Cape-and-Plymouth-business-media-horizontal-logo-1024x263-1.png
ORGANIZER;CN="Cape & Plymouth Business Media":MAILTO:cara@capeplymouthbusiness.com
END:VEVENT
BEGIN:VEVENT
DTSTART;TZID=America/New_York:20230429T110000
DTEND;TZID=America/New_York:20230429T140000
DTSTAMP:20260422T035304
CREATED:20230324T125607Z
LAST-MODIFIED:20230324T125732Z
UID:10000225-1682766000-1682776800@cranberrycountry.org
SUMMARY:Cooler Middleborough Fair
DESCRIPTION:Cooler Middleborough Fair\n11 a.m. to 2 p.m.\nSaturday\, April 29\, 2023\nMiddleborough High School gym\, 71 E. Grove St.\, Middleboro\n\nA free\, fun\, educational event for all ages to learn about energy efficiency and our local environment. One stop to learn about home energy audits\, rebates\, tax credits\, insulation\, heat pumps\, solar\, and electric vehicles. The fair will showcase a student energy project competition. There will also be local food trucks and family crafts and activities\, including an inflatable whale you walk inside.
URL:https://cranberrycountry.org/event/2895/
LOCATION:MA
CATEGORIES:Member Event
END:VEVENT
END:VCALENDAR