BEGIN:VCALENDAR
VERSION:2.0
PRODID:-//Cranberry Country Chamber of Commerce - ECPv6.15.20//NONSGML v1.0//EN
CALSCALE:GREGORIAN
METHOD:PUBLISH
X-WR-CALNAME:Cranberry Country Chamber of Commerce
X-ORIGINAL-URL:https://cranberrycountry.org
X-WR-CALDESC:Events for Cranberry Country Chamber of Commerce
REFRESH-INTERVAL;VALUE=DURATION:PT1H
X-Robots-Tag:noindex
X-PUBLISHED-TTL:PT1H
BEGIN:VTIMEZONE
TZID:America/New_York
BEGIN:DAYLIGHT
TZOFFSETFROM:-0500
TZOFFSETTO:-0400
TZNAME:EDT
DTSTART:20220313T070000
END:DAYLIGHT
BEGIN:STANDARD
TZOFFSETFROM:-0400
TZOFFSETTO:-0500
TZNAME:EST
DTSTART:20221106T060000
END:STANDARD
BEGIN:DAYLIGHT
TZOFFSETFROM:-0500
TZOFFSETTO:-0400
TZNAME:EDT
DTSTART:20230312T070000
END:DAYLIGHT
BEGIN:STANDARD
TZOFFSETFROM:-0400
TZOFFSETTO:-0500
TZNAME:EST
DTSTART:20231105T060000
END:STANDARD
BEGIN:DAYLIGHT
TZOFFSETFROM:-0500
TZOFFSETTO:-0400
TZNAME:EDT
DTSTART:20240310T070000
END:DAYLIGHT
BEGIN:STANDARD
TZOFFSETFROM:-0400
TZOFFSETTO:-0500
TZNAME:EST
DTSTART:20241103T060000
END:STANDARD
END:VTIMEZONE
BEGIN:VEVENT
DTSTART;TZID=America/New_York:20230322T170000
DTEND;TZID=America/New_York:20230322T180000
DTSTAMP:20260422T053114
CREATED:20230217T213614Z
LAST-MODIFIED:20230217T213614Z
UID:10000202-1679504400-1679508000@cranberrycountry.org
SUMMARY:Profit & Equity Unlocking Cash Flow & Profit
DESCRIPTION:Workshop – The Goldmine Within: Unlocking Cash Flow & Profit\nThis workshop will help you learn how to strategize your cash flow to build profit and keep more money in your business.\nMarch 8\, Day 1 – Business Setup \n\nEntity (dba vs LLC vs corp)\nAccounting Method (cash vs accrual)\nAllocation Process (accounts & percentages)\n\nMarch 15\, Day 2 – Taxes \n\nIRS Compliance & Fines (tax withholding\, annual income tax)\nState Taxes (sales tax\, income tax)\nPredicting tax burden (how to know how much you’ll owe)\n\nMarch 22\, Day 3 – Those You Pay \n\nVendors (who’s a vendor – W9s)\nContractors (who’s a contractor – W9)\nEmployees (who’s an employee- W4)\n\nMarch 29\, Day 4 – Business Finance \n\nBalance Sheet (structure and purpose)\nProfit & Loss (what to know and look at)\nCash Flow Statement (how it works)\n\nThree Workshop Options! \nOption 1 – Four 1 hr workshop sessions taking place March 8\, 15\, 22\, & 29th (5p-6p EST) \nOption 2 – Two 2hr workshop sessions taking place March 16 & 23rd (6p-8pm EST) \nOption 3 – One 4 hr workshop session taking place March 18th (10a-2pm EST) \nREGISTER  HERE
URL:https://cranberrycountry.org/event/profit-equity-unlocking-cash-flow-profit/2023-03-22/
LOCATION:MA
CATEGORIES:Member Event
END:VEVENT
BEGIN:VEVENT
DTSTART;TZID=America/New_York:20230323T180000
DTEND;TZID=America/New_York:20230323T200000
DTSTAMP:20260422T053115
CREATED:20230217T213804Z
LAST-MODIFIED:20230217T213804Z
UID:10000209-1679594400-1679601600@cranberrycountry.org
SUMMARY:Profit & Equity Unlocking Cash Flow & Profit
DESCRIPTION:Workshop – The Goldmine Within: Unlocking Cash Flow & Profit\nThis workshop will help you learn how to strategize your cash flow to build profit and keep more money in your business.\nMarch 8\, Day 1 – Business Setup \n\nEntity (dba vs LLC vs corp)\nAccounting Method (cash vs accrual)\nAllocation Process (accounts & percentages)\n\nMarch 15\, Day 2 – Taxes \n\nIRS Compliance & Fines (tax withholding\, annual income tax)\nState Taxes (sales tax\, income tax)\nPredicting tax burden (how to know how much you’ll owe)\n\nMarch 22\, Day 3 – Those You Pay \n\nVendors (who’s a vendor – W9s)\nContractors (who’s a contractor – W9)\nEmployees (who’s an employee- W4)\n\nMarch 29\, Day 4 – Business Finance \n\nBalance Sheet (structure and purpose)\nProfit & Loss (what to know and look at)\nCash Flow Statement (how it works)\n\nThree Workshop Options! \nOption 1 – Four 1 hr workshop sessions taking place March 8\, 15\, 22\, & 29th (5p-6p EST) \nOption 2 – Two 2hr workshop sessions taking place March 16 & 23rd (6p-8pm EST) \nOption 3 – One 4 hr workshop session taking place March 18th (10a-2pm EST) \nREGISTER  HERE
URL:https://cranberrycountry.org/event/profit-equity-unlocking-cash-flow-profit-2-2/2023-03-23/
LOCATION:MA
CATEGORIES:Member Event
END:VEVENT
BEGIN:VEVENT
DTSTART;TZID=America/New_York:20230324T183000
DTEND;TZID=America/New_York:20230324T203000
DTSTAMP:20260422T053115
CREATED:20230310T165922Z
LAST-MODIFIED:20230310T165922Z
UID:10000224-1679682600-1679689800@cranberrycountry.org
SUMMARY:Resin Seascape Workshop: Color My World Creations
DESCRIPTION:TO REGISTER CLICK:  HERE
URL:https://cranberrycountry.org/event/resin-seascape-workshop-color-my-world-creations/
LOCATION:Color My World Creations\, 54 Main Street\, Lakeville\, MA\, 02346
CATEGORIES:Member Event
END:VEVENT
END:VCALENDAR