BEGIN:VCALENDAR
VERSION:2.0
PRODID:-//Cranberry Country Chamber of Commerce - ECPv6.15.20//NONSGML v1.0//EN
CALSCALE:GREGORIAN
METHOD:PUBLISH
X-WR-CALNAME:Cranberry Country Chamber of Commerce
X-ORIGINAL-URL:https://cranberrycountry.org
X-WR-CALDESC:Events for Cranberry Country Chamber of Commerce
REFRESH-INTERVAL;VALUE=DURATION:PT1H
X-Robots-Tag:noindex
X-PUBLISHED-TTL:PT1H
BEGIN:VTIMEZONE
TZID:America/New_York
BEGIN:DAYLIGHT
TZOFFSETFROM:-0500
TZOFFSETTO:-0400
TZNAME:EDT
DTSTART:20220313T070000
END:DAYLIGHT
BEGIN:STANDARD
TZOFFSETFROM:-0400
TZOFFSETTO:-0500
TZNAME:EST
DTSTART:20221106T060000
END:STANDARD
BEGIN:DAYLIGHT
TZOFFSETFROM:-0500
TZOFFSETTO:-0400
TZNAME:EDT
DTSTART:20230312T070000
END:DAYLIGHT
BEGIN:STANDARD
TZOFFSETFROM:-0400
TZOFFSETTO:-0500
TZNAME:EST
DTSTART:20231105T060000
END:STANDARD
BEGIN:DAYLIGHT
TZOFFSETFROM:-0500
TZOFFSETTO:-0400
TZNAME:EDT
DTSTART:20240310T070000
END:DAYLIGHT
BEGIN:STANDARD
TZOFFSETFROM:-0400
TZOFFSETTO:-0500
TZNAME:EST
DTSTART:20241103T060000
END:STANDARD
END:VTIMEZONE
BEGIN:VEVENT
DTSTART;TZID=America/New_York:20230313T080000
DTEND;TZID=America/New_York:20230313T090000
DTSTAMP:20260422T072131
CREATED:20230220T145038Z
LAST-MODIFIED:20230227T131938Z
UID:10000214-1678694400-1678698000@cranberrycountry.org
SUMMARY:ECP Solar Seminar Mar 13 ZOOM
DESCRIPTION:The best part about community solar is that you don’t have to own your building\, install anything on your property\, or pay anything to participate – all you have to do is sign up (for no cost) and start saving. Community solar is a state subsidized program designed to make Massachusetts a greener state. Attend this seminar to learn more about the history of the program and the potential it has to cut costs for your business. \nECP Solar is a family owned business that owns two solar farms in Halifax. They have been in business for over 25 years and also own 4 solar farms in Vermont. They are dedicated to the transition towards renewable energy and want to help your business get involved – and save money in the process. They will be offering multiple informational seminars for chamber seminars\, but community solar works for homes too\, so feel free to bring a friend! \nFor more information on community solar\, here are some links: \nEcpsolar.com \nMass.gov \nMassClimateAction.org \nZoom 5/13 Click HERE \nOops! We could not locate your form. \nZoom 5/13 Click HERE
URL:https://cranberrycountry.org/event/ecp-solar-seminar-mar-13-zoom/
LOCATION:Zoom
CATEGORIES:Member Event
ATTACH;FMTTYPE=image/jpeg:https://cranberrycountry.org/wp-content/uploads/2023/02/ECP-Solar-Logo.jpg
END:VEVENT
BEGIN:VEVENT
DTSTART;TZID=America/New_York:20230313T120000
DTEND;TZID=America/New_York:20230313T130000
DTSTAMP:20260422T072131
CREATED:20230215T175913Z
LAST-MODIFIED:20230227T132126Z
UID:10000197-1678708800-1678712400@cranberrycountry.org
SUMMARY:ECP Solar Seminar Mar 13
DESCRIPTION:The best part about community solar is that you don’t have to own your building\, install anything on your property\, or pay anything to participate – all you have to do is sign up (for no cost) and start saving. Community solar is a state subsidized program designed to make Massachusetts a greener state. Attend this seminar to learn more about the history of the program and the potential it has to cut costs for your business. \nECP Solar is a family owned business that owns two solar farms in Halifax. They have been in business for over 25 years and also own 4 solar farms in Vermont. They are dedicated to the transition towards renewable energy and want to help your business get involved – and save money in the process. They will be offering multiple informational seminars for chamber seminars\, but community solar works for homes too\, so feel free to bring a friend! \nFor more information on community solar\, here are some links: \nEcpsolar.com \nMass.gov \nMassClimateAction.org \nOops! We could not locate your form. \nZoom 5/13 Click HERE
URL:https://cranberrycountry.org/event/ecp-solar-seminar-mar-13/
LOCATION:Cranberry Country Chamber Office\, 9 Clayton Road\, Middleboro\, MA\, United States
CATEGORIES:Member Event
ATTACH;FMTTYPE=image/jpeg:https://cranberrycountry.org/wp-content/uploads/2023/02/ECP-Solar-Logo.jpg
END:VEVENT
BEGIN:VEVENT
DTSTART;TZID=America/New_York:20230315T170000
DTEND;TZID=America/New_York:20230315T180000
DTSTAMP:20260422T072131
CREATED:20230217T213614Z
LAST-MODIFIED:20230217T213614Z
UID:10000201-1678899600-1678903200@cranberrycountry.org
SUMMARY:Profit & Equity Unlocking Cash Flow & Profit
DESCRIPTION:Workshop – The Goldmine Within: Unlocking Cash Flow & Profit\nThis workshop will help you learn how to strategize your cash flow to build profit and keep more money in your business.\nMarch 8\, Day 1 – Business Setup \n\nEntity (dba vs LLC vs corp)\nAccounting Method (cash vs accrual)\nAllocation Process (accounts & percentages)\n\nMarch 15\, Day 2 – Taxes \n\nIRS Compliance & Fines (tax withholding\, annual income tax)\nState Taxes (sales tax\, income tax)\nPredicting tax burden (how to know how much you’ll owe)\n\nMarch 22\, Day 3 – Those You Pay \n\nVendors (who’s a vendor – W9s)\nContractors (who’s a contractor – W9)\nEmployees (who’s an employee- W4)\n\nMarch 29\, Day 4 – Business Finance \n\nBalance Sheet (structure and purpose)\nProfit & Loss (what to know and look at)\nCash Flow Statement (how it works)\n\nThree Workshop Options! \nOption 1 – Four 1 hr workshop sessions taking place March 8\, 15\, 22\, & 29th (5p-6p EST) \nOption 2 – Two 2hr workshop sessions taking place March 16 & 23rd (6p-8pm EST) \nOption 3 – One 4 hr workshop session taking place March 18th (10a-2pm EST) \nREGISTER  HERE
URL:https://cranberrycountry.org/event/profit-equity-unlocking-cash-flow-profit/2023-03-15/
LOCATION:MA
CATEGORIES:Member Event
END:VEVENT
BEGIN:VEVENT
DTSTART;TZID=America/New_York:20230316T180000
DTEND;TZID=America/New_York:20230316T200000
DTSTAMP:20260422T072131
CREATED:20230217T213804Z
LAST-MODIFIED:20230217T213804Z
UID:10000208-1678989600-1678996800@cranberrycountry.org
SUMMARY:Profit & Equity Unlocking Cash Flow & Profit
DESCRIPTION:Workshop – The Goldmine Within: Unlocking Cash Flow & Profit\nThis workshop will help you learn how to strategize your cash flow to build profit and keep more money in your business.\nMarch 8\, Day 1 – Business Setup \n\nEntity (dba vs LLC vs corp)\nAccounting Method (cash vs accrual)\nAllocation Process (accounts & percentages)\n\nMarch 15\, Day 2 – Taxes \n\nIRS Compliance & Fines (tax withholding\, annual income tax)\nState Taxes (sales tax\, income tax)\nPredicting tax burden (how to know how much you’ll owe)\n\nMarch 22\, Day 3 – Those You Pay \n\nVendors (who’s a vendor – W9s)\nContractors (who’s a contractor – W9)\nEmployees (who’s an employee- W4)\n\nMarch 29\, Day 4 – Business Finance \n\nBalance Sheet (structure and purpose)\nProfit & Loss (what to know and look at)\nCash Flow Statement (how it works)\n\nThree Workshop Options! \nOption 1 – Four 1 hr workshop sessions taking place March 8\, 15\, 22\, & 29th (5p-6p EST) \nOption 2 – Two 2hr workshop sessions taking place March 16 & 23rd (6p-8pm EST) \nOption 3 – One 4 hr workshop session taking place March 18th (10a-2pm EST) \nREGISTER  HERE
URL:https://cranberrycountry.org/event/profit-equity-unlocking-cash-flow-profit-2-2/2023-03-16/
LOCATION:MA
CATEGORIES:Member Event
END:VEVENT
BEGIN:VEVENT
DTSTART;TZID=America/New_York:20230317T140000
DTEND;TZID=America/New_York:20230317T150000
DTSTAMP:20260422T072131
CREATED:20230215T175819Z
LAST-MODIFIED:20230227T132206Z
UID:10000196-1679061600-1679065200@cranberrycountry.org
SUMMARY:ECP Solar Seminar Mar 17
DESCRIPTION:The best part about community solar is that you don’t have to own your building\, install anything on your property\, or pay anything to participate – all you have to do is sign up (for no cost) and start saving. Community solar is a state subsidized program designed to make Massachusetts a greener state. Attend this seminar to learn more about the history of the program and the potential it has to cut costs for your business. \nECP Solar is a family owned business that owns two solar farms in Halifax. They have been in business for over 25 years and also own 4 solar farms in Vermont. They are dedicated to the transition towards renewable energy and want to help your business get involved – and save money in the process. They will be offering multiple informational seminars for chamber seminars\, but community solar works for homes too\, so feel free to bring a friend! \nFor more information on community solar\, here are some links: \nEcpsolar.com \nMass.gov \nMassClimateAction.org \nOops! We could not locate your form. \nClick HERE for 5/13 zoom \n 
URL:https://cranberrycountry.org/event/ecp-solar-seminar-mar-17/
LOCATION:Cranberry Country Chamber Office\, 9 Clayton Road\, Middleboro\, MA\, United States
CATEGORIES:Member Event
ATTACH;FMTTYPE=image/jpeg:https://cranberrycountry.org/wp-content/uploads/2023/02/ECP-Solar-Logo.jpg
END:VEVENT
BEGIN:VEVENT
DTSTART;TZID=America/New_York:20230318T100000
DTEND;TZID=America/New_York:20230318T140000
DTSTAMP:20260422T072131
CREATED:20230217T213942Z
LAST-MODIFIED:20230217T213942Z
UID:10000212-1679133600-1679148000@cranberrycountry.org
SUMMARY:Profit & Equity Unlocking Cash Flow & Profit
DESCRIPTION:Workshop – The Goldmine Within: Unlocking Cash Flow & Profit\nThis workshop will help you learn how to strategize your cash flow to build profit and keep more money in your business.\nMarch 8\, Day 1 – Business Setup \n\nEntity (dba vs LLC vs corp)\nAccounting Method (cash vs accrual)\nAllocation Process (accounts & percentages)\n\nMarch 15\, Day 2 – Taxes \n\nIRS Compliance & Fines (tax withholding\, annual income tax)\nState Taxes (sales tax\, income tax)\nPredicting tax burden (how to know how much you’ll owe)\n\nMarch 22\, Day 3 – Those You Pay \n\nVendors (who’s a vendor – W9s)\nContractors (who’s a contractor – W9)\nEmployees (who’s an employee- W4)\n\nMarch 29\, Day 4 – Business Finance \n\nBalance Sheet (structure and purpose)\nProfit & Loss (what to know and look at)\nCash Flow Statement (how it works)\n\nThree Workshop Options! \nOption 1 – Four 1 hr workshop sessions taking place March 8\, 15\, 22\, & 29th (5p-6p EST) \nOption 2 – Two 2hr workshop sessions taking place March 16 & 23rd (6p-8pm EST) \nOption 3 – One 4 hr workshop session taking place March 18th (10a-2pm EST) \nREGISTER  HERE
URL:https://cranberrycountry.org/event/profit-equity-unlocking-cash-flow-profit-2-3/2023-03-18/
LOCATION:MA
CATEGORIES:Member Event
END:VEVENT
END:VCALENDAR