BEGIN:VCALENDAR
VERSION:2.0
PRODID:-//Cranberry Country Chamber of Commerce - ECPv6.15.20//NONSGML v1.0//EN
CALSCALE:GREGORIAN
METHOD:PUBLISH
X-WR-CALNAME:Cranberry Country Chamber of Commerce
X-ORIGINAL-URL:https://cranberrycountry.org
X-WR-CALDESC:Events for Cranberry Country Chamber of Commerce
REFRESH-INTERVAL;VALUE=DURATION:PT1H
X-Robots-Tag:noindex
X-PUBLISHED-TTL:PT1H
BEGIN:VTIMEZONE
TZID:America/New_York
BEGIN:DAYLIGHT
TZOFFSETFROM:-0500
TZOFFSETTO:-0400
TZNAME:EDT
DTSTART:20220313T070000
END:DAYLIGHT
BEGIN:STANDARD
TZOFFSETFROM:-0400
TZOFFSETTO:-0500
TZNAME:EST
DTSTART:20221106T060000
END:STANDARD
BEGIN:DAYLIGHT
TZOFFSETFROM:-0500
TZOFFSETTO:-0400
TZNAME:EDT
DTSTART:20230312T070000
END:DAYLIGHT
BEGIN:STANDARD
TZOFFSETFROM:-0400
TZOFFSETTO:-0500
TZNAME:EST
DTSTART:20231105T060000
END:STANDARD
BEGIN:DAYLIGHT
TZOFFSETFROM:-0500
TZOFFSETTO:-0400
TZNAME:EDT
DTSTART:20240310T070000
END:DAYLIGHT
BEGIN:STANDARD
TZOFFSETFROM:-0400
TZOFFSETTO:-0500
TZNAME:EST
DTSTART:20241103T060000
END:STANDARD
END:VTIMEZONE
BEGIN:VEVENT
DTSTART;TZID=America/New_York:20230228T090000
DTEND;TZID=America/New_York:20230228T120000
DTSTAMP:20260422T053117
CREATED:20230203T132936Z
LAST-MODIFIED:20230203T133203Z
UID:10000191-1677574800-1677585600@cranberrycountry.org
SUMMARY:Cape Plymouth Business Media Marketing Summit
DESCRIPTION:2023 Marketing Summit\nTuesday\, February 28th\n9 am – 12 pm\nAlden Park\, Plymouth\n \nTickets – $35\nTables of 8 – $280\nEmail: cara@capeplymouthbusiness.com\n  \nA portion of the proceeds from this event will go to support a local\, charitable organization.
URL:https://cranberrycountry.org/event/cape-plymouth-business-media-marketing-summit/
LOCATION:Alden Park Bar & Grill\, 160 Colony Place\, Plymouth\, MA\, 02360
CATEGORIES:Member Event,Networking
ATTACH;FMTTYPE=image/png:https://cranberrycountry.org/wp-content/uploads/2022/09/Cape-and-Plymouth-business-media-horizontal-logo-1024x263-1.png
END:VEVENT
BEGIN:VEVENT
DTSTART;TZID=America/New_York:20230304T090000
DTEND;TZID=America/New_York:20230304T120000
DTSTAMP:20260422T053117
CREATED:20230214T013325Z
LAST-MODIFIED:20230214T013341Z
UID:10000194-1677920400-1677931200@cranberrycountry.org
SUMMARY:Grand Opening Wagner PT & Performance
DESCRIPTION:Saturday\, March 4th  9 am – 1 pm    FREE!\nJoin us for a Ribbon Cutting and Grand Opening Event!\n290 Bedford Street\, Lakeville\nRegister HERE
URL:https://cranberrycountry.org/event/grand-opening-wagner-pt-performance/
LOCATION:Wagner PT & Performance\, 290 Bedford Street\, Lakeville\, MA\, 02347
CATEGORIES:Member Event,Networking
ATTACH;FMTTYPE=image/jpeg:https://cranberrycountry.org/wp-content/uploads/2023/02/wagner-jpg-1078x600-1.jpg
END:VEVENT
END:VCALENDAR