BEGIN:VCALENDAR
VERSION:2.0
PRODID:-//Cranberry Country Chamber of Commerce - ECPv6.15.20//NONSGML v1.0//EN
CALSCALE:GREGORIAN
METHOD:PUBLISH
X-WR-CALNAME:Cranberry Country Chamber of Commerce
X-ORIGINAL-URL:https://cranberrycountry.org
X-WR-CALDESC:Events for Cranberry Country Chamber of Commerce
REFRESH-INTERVAL;VALUE=DURATION:PT1H
X-Robots-Tag:noindex
X-PUBLISHED-TTL:PT1H
BEGIN:VTIMEZONE
TZID:America/New_York
BEGIN:DAYLIGHT
TZOFFSETFROM:-0500
TZOFFSETTO:-0400
TZNAME:EDT
DTSTART:20210314T070000
END:DAYLIGHT
BEGIN:STANDARD
TZOFFSETFROM:-0400
TZOFFSETTO:-0500
TZNAME:EST
DTSTART:20211107T060000
END:STANDARD
BEGIN:DAYLIGHT
TZOFFSETFROM:-0500
TZOFFSETTO:-0400
TZNAME:EDT
DTSTART:20220313T070000
END:DAYLIGHT
BEGIN:STANDARD
TZOFFSETFROM:-0400
TZOFFSETTO:-0500
TZNAME:EST
DTSTART:20221106T060000
END:STANDARD
BEGIN:DAYLIGHT
TZOFFSETFROM:-0500
TZOFFSETTO:-0400
TZNAME:EDT
DTSTART:20230312T070000
END:DAYLIGHT
BEGIN:STANDARD
TZOFFSETFROM:-0400
TZOFFSETTO:-0500
TZNAME:EST
DTSTART:20231105T060000
END:STANDARD
END:VTIMEZONE
BEGIN:VEVENT
DTSTART;TZID=America/New_York:20221028T090000
DTEND;TZID=America/New_York:20221028T150000
DTSTAMP:20260424T101626
CREATED:20220909T202845Z
LAST-MODIFIED:20221026T225052Z
UID:10000022-1666947600-1666969200@cranberrycountry.org
SUMMARY:2022 Elements for Excellence
DESCRIPTION:ENLIGHTEN SPONSORS:\nBluestone Bank\nMorton Hospital\nNorth Easton Savings Bank\nPet Recess & Doggie Daycare\nT.M. Ryder Insurance Agency\nTaunton Federal Credit Union\nTentative Schedule\n8:15    Registration and continental breakfast offerings \n9:00    Jessica Ellis-Wilson “Challenging our Bias” \n10:00  TBA \n11:00 Gayle Suzanne  “Permission Slip” \n12:00  Lunch \n1:00    Meg Anderson “How to Bring Joy into your life” \n2:00    Sound Meditation and wrap up by 3:00 \n Email Pam  pdziura@cranberrycountry.org to sign up! \n 
URL:https://cranberrycountry.org/event/2022-elements-for-excellence/
LOCATION:Rosebrook Event Center\, 50 Rosebrook Place\, Wareham\, MA\, United States
CATEGORIES:Member Event,Networking
ATTACH;FMTTYPE=image/jpeg:https://cranberrycountry.org/wp-content/uploads/2022/08/Elements-for-Excellence-2021-SAVE-DATE-e1666197680753.jpg
END:VEVENT
END:VCALENDAR