BEGIN:VCALENDAR
VERSION:2.0
PRODID:-//Cranberry Country Chamber of Commerce - ECPv6.15.20//NONSGML v1.0//EN
CALSCALE:GREGORIAN
METHOD:PUBLISH
X-WR-CALNAME:Cranberry Country Chamber of Commerce
X-ORIGINAL-URL:https://cranberrycountry.org
X-WR-CALDESC:Events for Cranberry Country Chamber of Commerce
REFRESH-INTERVAL;VALUE=DURATION:PT1H
X-Robots-Tag:noindex
X-PUBLISHED-TTL:PT1H
BEGIN:VTIMEZONE
TZID:America/New_York
BEGIN:DAYLIGHT
TZOFFSETFROM:-0500
TZOFFSETTO:-0400
TZNAME:EDT
DTSTART:20210314T070000
END:DAYLIGHT
BEGIN:STANDARD
TZOFFSETFROM:-0400
TZOFFSETTO:-0500
TZNAME:EST
DTSTART:20211107T060000
END:STANDARD
BEGIN:DAYLIGHT
TZOFFSETFROM:-0500
TZOFFSETTO:-0400
TZNAME:EDT
DTSTART:20220313T070000
END:DAYLIGHT
BEGIN:STANDARD
TZOFFSETFROM:-0400
TZOFFSETTO:-0500
TZNAME:EST
DTSTART:20221106T060000
END:STANDARD
BEGIN:DAYLIGHT
TZOFFSETFROM:-0500
TZOFFSETTO:-0400
TZNAME:EDT
DTSTART:20230312T070000
END:DAYLIGHT
BEGIN:STANDARD
TZOFFSETFROM:-0400
TZOFFSETTO:-0500
TZNAME:EST
DTSTART:20231105T060000
END:STANDARD
END:VTIMEZONE
BEGIN:VEVENT
DTSTART;TZID=America/New_York:20221018T083000
DTEND;TZID=America/New_York:20221018T093000
DTSTAMP:20260424T114044
CREATED:20221007T202055Z
LAST-MODIFIED:20221027T145227Z
UID:10000100-1666081800-1666085400@cranberrycountry.org
SUMMARY:Human Resources Law 101 for Small and Mid-Sized Businesses
DESCRIPTION:Human Resources Law 101 for small and mid-sized businesses\nTuesday\, October 18\, 2022\n8:30 – 9:45 via Zoom\nWith Deborah Bell \nLAW OFFICES OF HELENE HORN FIGMAN P.C. \nHuman Resources Consulting and Employment Law Compliance \nFrom hiring\, job descriptions\, handbooks\, performance documents\, and reductions in force/ termination\, this presentation will assist businesses in navigating the various challenges facing today’s employers. \nPlease join us to learn the nuts and bolts of effective and best practices.
URL:https://cranberrycountry.org/event/human-resources-law-101-for-small-and-mid-sized-businesses/
LOCATION:Zoom
CATEGORIES:Member Event,Rockland Trust,Speaker Series
ATTACH;FMTTYPE=image/gif:https://cranberrycountry.org/wp-content/uploads/2022/09/RTC-white.gif
END:VEVENT
BEGIN:VEVENT
DTSTART;TZID=America/New_York:20221019T120000
DTEND;TZID=America/New_York:20221019T133000
DTSTAMP:20260424T114044
CREATED:20221007T184751Z
LAST-MODIFIED:20221027T145151Z
UID:10000037-1666180800-1666186200@cranberrycountry.org
SUMMARY:Broaden Your Business at Fisher's Pub
DESCRIPTION:Oops! We could not locate your form.
URL:https://cranberrycountry.org/event/broaden-your-business-at-fishers-pub-2/
LOCATION:Fisher’s Pub\, 360 Wareham Street\, Middleboro\, MA\, 02346\, United States
CATEGORIES:Luncheon,Member Event,Networking
ATTACH;FMTTYPE=image/jpeg:https://cranberrycountry.org/wp-content/uploads/2022/10/89774541_110769590541669_3906122689554677760_n.jpg
END:VEVENT
END:VCALENDAR