BEGIN:VCALENDAR
VERSION:2.0
PRODID:-//Cranberry Country Chamber of Commerce - ECPv6.15.20//NONSGML v1.0//EN
CALSCALE:GREGORIAN
METHOD:PUBLISH
X-ORIGINAL-URL:https://cranberrycountry.org
X-WR-CALDESC:Events for Cranberry Country Chamber of Commerce
REFRESH-INTERVAL;VALUE=DURATION:PT1H
X-Robots-Tag:noindex
X-PUBLISHED-TTL:PT1H
BEGIN:VTIMEZONE
TZID:America/New_York
BEGIN:DAYLIGHT
TZOFFSETFROM:-0500
TZOFFSETTO:-0400
TZNAME:EDT
DTSTART:20220313T070000
END:DAYLIGHT
BEGIN:STANDARD
TZOFFSETFROM:-0400
TZOFFSETTO:-0500
TZNAME:EST
DTSTART:20221106T060000
END:STANDARD
BEGIN:DAYLIGHT
TZOFFSETFROM:-0500
TZOFFSETTO:-0400
TZNAME:EDT
DTSTART:20230312T070000
END:DAYLIGHT
BEGIN:STANDARD
TZOFFSETFROM:-0400
TZOFFSETTO:-0500
TZNAME:EST
DTSTART:20231105T060000
END:STANDARD
BEGIN:DAYLIGHT
TZOFFSETFROM:-0500
TZOFFSETTO:-0400
TZNAME:EDT
DTSTART:20240310T070000
END:DAYLIGHT
BEGIN:STANDARD
TZOFFSETFROM:-0400
TZOFFSETTO:-0500
TZNAME:EST
DTSTART:20241103T060000
END:STANDARD
END:VTIMEZONE
BEGIN:VEVENT
DTSTART;TZID=America/New_York:20230207T120000
DTEND;TZID=America/New_York:20230207T133000
DTSTAMP:20260422T053847
CREATED:20230201T201244Z
LAST-MODIFIED:20230203T133244Z
UID:10000190-1675771200-1675776600@cranberrycountry.org
SUMMARY:Introduction to Quarterly Strategic Planning
DESCRIPTION:Join us for new ideas and insights… \nTake 1.5 Hours to see how to create long term\, short term goals\, and a 90 Day plan for profit. You will learn how to spend your time on the important task of strategic planning before it  becomes an urgency… and it works! \nTuesday\, February 7th\n12Noon – 1:30 pm\nCranberry Country Chamber of Commerce (9 Clayton Rd Middleboro)\nFree in-person seminar – Lunch Included\nClick below to register!
URL:https://cranberrycountry.org/event/introduction-to-quarterly-strategic-planning/
LOCATION:Cranberry Country Chamber Office\, 9 Clayton Road\, Middleboro\, MA\, United States
CATEGORIES:Member Event
ATTACH;FMTTYPE=image/jpeg:https://cranberrycountry.org/wp-content/uploads/2022/09/Lighthouse-Bus-Coaching-e1713367368830.jpg
END:VEVENT
BEGIN:VEVENT
DTSTART;TZID=America/New_York:20230225T130000
DTEND;TZID=America/New_York:20230225T150000
DTSTAMP:20260422T053847
CREATED:20230213T150918Z
LAST-MODIFIED:20230213T151444Z
UID:10000193-1677330000-1677337200@cranberrycountry.org
SUMMARY:Wine & Wellness
DESCRIPTION:
URL:https://cranberrycountry.org/event/wine-wellness/
LOCATION:Color My World Creations\, 54 Main Street\, Lakeville\, MA\, 02346
CATEGORIES:Member Event,Networking
ATTACH;FMTTYPE=image/png:https://cranberrycountry.org/wp-content/uploads/2023/02/Color-my-world-neora.png
END:VEVENT
BEGIN:VEVENT
DTSTART;TZID=America/New_York:20230228T090000
DTEND;TZID=America/New_York:20230228T120000
DTSTAMP:20260422T053848
CREATED:20230203T132936Z
LAST-MODIFIED:20230203T133203Z
UID:10000191-1677574800-1677585600@cranberrycountry.org
SUMMARY:Cape Plymouth Business Media Marketing Summit
DESCRIPTION:2023 Marketing Summit\nTuesday\, February 28th\n9 am – 12 pm\nAlden Park\, Plymouth\n \nTickets – $35\nTables of 8 – $280\nEmail: cara@capeplymouthbusiness.com\n  \nA portion of the proceeds from this event will go to support a local\, charitable organization.
URL:https://cranberrycountry.org/event/cape-plymouth-business-media-marketing-summit/
LOCATION:Alden Park Bar & Grill\, 160 Colony Place\, Plymouth\, MA\, 02360
CATEGORIES:Member Event,Networking
ATTACH;FMTTYPE=image/png:https://cranberrycountry.org/wp-content/uploads/2022/09/Cape-and-Plymouth-business-media-horizontal-logo-1024x263-1.png
END:VEVENT
END:VCALENDAR