BEGIN:VCALENDAR
VERSION:2.0
PRODID:-//Cranberry Country Chamber of Commerce - ECPv6.15.20//NONSGML v1.0//EN
CALSCALE:GREGORIAN
METHOD:PUBLISH
X-ORIGINAL-URL:https://cranberrycountry.org
X-WR-CALDESC:Events for Cranberry Country Chamber of Commerce
REFRESH-INTERVAL;VALUE=DURATION:PT1H
X-Robots-Tag:noindex
X-PUBLISHED-TTL:PT1H
BEGIN:VTIMEZONE
TZID:America/New_York
BEGIN:DAYLIGHT
TZOFFSETFROM:-0500
TZOFFSETTO:-0400
TZNAME:EDT
DTSTART:20210314T070000
END:DAYLIGHT
BEGIN:STANDARD
TZOFFSETFROM:-0400
TZOFFSETTO:-0500
TZNAME:EST
DTSTART:20211107T060000
END:STANDARD
BEGIN:DAYLIGHT
TZOFFSETFROM:-0500
TZOFFSETTO:-0400
TZNAME:EDT
DTSTART:20220313T070000
END:DAYLIGHT
BEGIN:STANDARD
TZOFFSETFROM:-0400
TZOFFSETTO:-0500
TZNAME:EST
DTSTART:20221106T060000
END:STANDARD
BEGIN:DAYLIGHT
TZOFFSETFROM:-0500
TZOFFSETTO:-0400
TZNAME:EDT
DTSTART:20230312T070000
END:DAYLIGHT
BEGIN:STANDARD
TZOFFSETFROM:-0400
TZOFFSETTO:-0500
TZNAME:EST
DTSTART:20231105T060000
END:STANDARD
BEGIN:DAYLIGHT
TZOFFSETFROM:-0500
TZOFFSETTO:-0400
TZNAME:EDT
DTSTART:20240310T070000
END:DAYLIGHT
BEGIN:STANDARD
TZOFFSETFROM:-0400
TZOFFSETTO:-0500
TZNAME:EST
DTSTART:20241103T060000
END:STANDARD
BEGIN:DAYLIGHT
TZOFFSETFROM:-0500
TZOFFSETTO:-0400
TZNAME:EDT
DTSTART:20250309T070000
END:DAYLIGHT
BEGIN:STANDARD
TZOFFSETFROM:-0400
TZOFFSETTO:-0500
TZNAME:EST
DTSTART:20251102T060000
END:STANDARD
BEGIN:DAYLIGHT
TZOFFSETFROM:-0500
TZOFFSETTO:-0400
TZNAME:EDT
DTSTART:20260308T070000
END:DAYLIGHT
BEGIN:STANDARD
TZOFFSETFROM:-0400
TZOFFSETTO:-0500
TZNAME:EST
DTSTART:20261101T060000
END:STANDARD
BEGIN:DAYLIGHT
TZOFFSETFROM:-0500
TZOFFSETTO:-0400
TZNAME:EDT
DTSTART:20270314T070000
END:DAYLIGHT
BEGIN:STANDARD
TZOFFSETFROM:-0400
TZOFFSETTO:-0500
TZNAME:EST
DTSTART:20271107T060000
END:STANDARD
END:VTIMEZONE
BEGIN:VEVENT
DTSTART;TZID=America/New_York:20260403T090000
DTEND;TZID=America/New_York:20260403T100000
DTSTAMP:20260422T033712
CREATED:20260327T161821Z
LAST-MODIFIED:20260327T161822Z
UID:10000362-1775206800-1775210400@cranberrycountry.org
SUMMARY:Community Involvement Council Meeting
DESCRIPTION:Community Involvement Council \nMeeting 1st Friday of each month   9:00 – 10:00 am\nCranberry Country Chamber office – 9 Clayton Road\, Middleboro\nThis is a meeting for Chamber members from our 9 communities working to provide our member businesses and their staff opportunities to support our community through several campaigns each year.\nSome of our campaigns have been blankets for veterans\, books and backpacks for children through School on Wheels\, pajamas and winter coats through My Brother’s Keeper\, Food & Electronics drive\, Blood Drive\, and many more.   \nIn addition\, we publicize and promote our non-profit member businesses in a weekly email providing a way for our readers to donate and/or volunteer for a variety of projects to help those organizations who support our community and those in need. \nTo learn more contact Pam at pdziura@cranberrycountry.org
URL:https://cranberrycountry.org/event/community-involvement-council-meeting-2-3-4-2/2026-04-03/
LOCATION:Cranberry Country Chamber Office\, 9 Clayton Road\, Middleboro\, MA\, United States
CATEGORIES:Community Involvement
ATTACH;FMTTYPE=image/png:https://cranberrycountry.org/wp-content/uploads/2022/12/Go-giver.png
END:VEVENT
BEGIN:VEVENT
DTSTART;TZID=America/New_York:20251018T100000
DTEND;TZID=America/New_York:20251018T140000
DTSTAMP:20260422T033712
CREATED:20250806T173027Z
LAST-MODIFIED:20250806T173027Z
UID:10000492-1760781600-1760796000@cranberrycountry.org
SUMMARY:Blood Drive
DESCRIPTION:Community Involvement Council \nRED CROSS BLOOD DRIVE\nA PINT FOR A PINT\nSaturday\, October 18\, 2025\nAt The Bridge Center\, 470 Pine Street\, Bridgewater MA\n\nGive a pint of blood and receive a gift certificate to use at one of four breweries for a free pint of beer
URL:https://cranberrycountry.org/event/blood-drive/
LOCATION:The Bridge Center\, 470 Pine Street\, Bridgewater\, MA
CATEGORIES:Community Involvement
ATTACH;FMTTYPE=image/png:https://cranberrycountry.org/wp-content/uploads/2025/08/Easter-seals-Red-Cross.png
END:VEVENT
BEGIN:VEVENT
DTSTART;TZID=America/New_York:20250510T100000
DTEND;TZID=America/New_York:20250510T140000
DTSTAMP:20260422T033712
CREATED:20250217T165705Z
LAST-MODIFIED:20250217T165725Z
UID:10000459-1746871200-1746885600@cranberrycountry.org
SUMMARY:Food & Electronics Drive 2025
DESCRIPTION:
URL:https://cranberrycountry.org/event/food-electronics-drive/
LOCATION:MA
CATEGORIES:Community Involvement
ATTACH;FMTTYPE=image/png:https://cranberrycountry.org/wp-content/uploads/2025/02/junk-nesb.png
END:VEVENT
BEGIN:VEVENT
DTSTART;TZID=America/New_York:20250503T090000
DTEND;TZID=America/New_York:20250503T120000
DTSTAMP:20260422T033712
CREATED:20250218T174200Z
LAST-MODIFIED:20250218T174200Z
UID:10000460-1746262800-1746273600@cranberrycountry.org
SUMMARY:Food & Electronics Drive The Bridge Center
DESCRIPTION:
URL:https://cranberrycountry.org/event/food-electronics-drive-the-bridge-center/
LOCATION:The Bridge Center\, 470 Pine Street\, Bridgewater\, MA
CATEGORIES:Community Involvement
ATTACH;FMTTYPE=image/png:https://cranberrycountry.org/wp-content/uploads/2025/02/TBC-junk.png
END:VEVENT
BEGIN:VEVENT
DTSTART;TZID=America/New_York:20250325T170000
DTEND;TZID=America/New_York:20250325T203000
DTSTAMP:20260422T033712
CREATED:20250210T141342Z
LAST-MODIFIED:20250320T170319Z
UID:10000456-1742922000-1742934600@cranberrycountry.org
SUMMARY:46th Annual Meeting
DESCRIPTION:46th Annual Meeting\nLife is Good When Business Supports Community!\nJoin us as we gather to celebrate another successful year and recognize our members. We will celebrate and award our nominated businesses and vote in our Board of Directors.\nOur Guest Speaker:  \nSteve Gross – The Life is Good Company – Playmaker Project \nTuesday\, March 25\, 2025\nRosebrook Event Center: 50 Rosebrook Place\, Wareham\n5:00-6:00 Networking | 6:00 – 8:30 pm Dinner\, Annual Meeting\, Speaker\, Awards\nPremier Sponsors:\n                                          \nLead Sponsors:\n                                \nCorporate Sponsors:\n                    \n         \n  \n  \n  \n    Steve Gross Bio & Short Sizzle Reel: \nSteve Gross is a clinical social worker and the Founder of The Playmaker Project\, a nonprofit dedicated to providing training\, resources\, and ongoing support for childcare professionals — enabling them to use the power of play to build healing\, life-changing relationships with the children in their care. For over 30 years\, Steve has pioneered innovative\, play-based\, trauma interventions for communities around the world. Steveʼs work is rooted in his belief that play is the universal language of children and that adults must speak it fluently in order to help them heal\, grow\, and thrive. His unique approach has been instrumental for communities around the world facing large-scale trauma events. Steveʼs work has been celebrated by international trauma experts and was featured as an example of how play can be used in therapy in the longtime #1 New York Times Bestseller\, The Body Keeps the Score.  Steve believes that how we care for our kids\, especially our most vulnerable and wounded kids\, will influence how far we evolve as a society. Video Click HERE
URL:https://cranberrycountry.org/event/46th-annual-meeting/
LOCATION:Rosebrook Event Center\, 50 Rosebrook Place\, Wareham\, MA\, United States
CATEGORIES:Community Involvement,Networking
ATTACH;FMTTYPE=image/png:https://cranberrycountry.org/wp-content/uploads/2025/02/event-logo.png
END:VEVENT
BEGIN:VEVENT
DTSTART;TZID=America/New_York:20240718T170000
DTEND;TZID=America/New_York:20240718T190000
DTSTAMP:20260422T033712
CREATED:20240318T140010Z
LAST-MODIFIED:20240702T224911Z
UID:10000315-1721322000-1721329200@cranberrycountry.org
SUMMARY:Christmas in July Networking at Lorenzo's
DESCRIPTION:It is that time again to celebrate our\nChristmas in July Business After Hours Networking!\nThis year we are collecting books for School on Wheels.  To see the list of needed books\, click HERE\nLorenzo’s Italian Restaurant\n500 W. Grove St.\, Middleboro\nThursday\, July 18th  5:00 – 7:00 pm     Outside with Live Music!\nHOLLY SPONSORS:  CHECK COLLISION and SOUTHCOAST MARKETING GROUP \nOops! We could not locate your form.  \n 
URL:https://cranberrycountry.org/event/christmas-in-july-networking-at-lorenzos/
LOCATION:Lorenzo’s Italian Restaurant\, 500 W. Grove Street\, Middleboro\, MA\, 02346\, United States
CATEGORIES:Community Involvement,Networking
ATTACH;FMTTYPE=image/png:https://cranberrycountry.org/wp-content/uploads/2022/09/lorenzos-e1667235508431.png
END:VEVENT
BEGIN:VEVENT
DTSTART;TZID=America/New_York:20240421T090000
DTEND;TZID=America/New_York:20240421T140000
DTSTAMP:20260422T033712
CREATED:20240311T131510Z
LAST-MODIFIED:20240311T131524Z
UID:10000313-1713690000-1713708000@cranberrycountry.org
SUMMARY:Food Drive 2024
DESCRIPTION:ANNUAL FOOD DRIVE – VOLUNTEER HERE:\nOops! We could not locate your form. \n \n 
URL:https://cranberrycountry.org/event/food-electronics-drive-2024-2/
LOCATION:MA
CATEGORIES:Community Involvement
ATTACH;FMTTYPE=image/png:https://cranberrycountry.org/wp-content/uploads/2024/03/FOOD-DR.png
END:VEVENT
BEGIN:VEVENT
DTSTART;TZID=America/New_York:20240420T090000
DTEND;TZID=America/New_York:20240420T140000
DTSTAMP:20260422T033712
CREATED:20240311T131421Z
LAST-MODIFIED:20240311T131421Z
UID:10000312-1713603600-1713621600@cranberrycountry.org
SUMMARY:Food & Electronics Drive 2024
DESCRIPTION:ANNUAL FOOD DRIVE – VOLUNTEER HERE:\nOops! We could not locate your form. \n \n 
URL:https://cranberrycountry.org/event/food-electronics-drive-2024/
LOCATION:MA
CATEGORIES:Community Involvement
ATTACH;FMTTYPE=image/png:https://cranberrycountry.org/wp-content/uploads/2024/03/FOOD-DR.png
END:VEVENT
BEGIN:VEVENT
DTSTART;TZID=America/New_York:20231220T173000
DTEND;TZID=America/New_York:20231220T193000
DTSTAMP:20260422T033712
CREATED:20231013T153426Z
LAST-MODIFIED:20231127T132200Z
UID:10000280-1703093400-1703100600@cranberrycountry.org
SUMMARY:My Brother's Keeper Chamber Wrapping Day
DESCRIPTION:Community Involvement Council is sponsoring and promoting My Brother’s Keeper at their Dartmouth facility for our Winter Campaign.\nSince 1990\, My Brother’s Keeper has brought joy to kids and removed stress from parents who could not provide presents for their children at Christmas. They also provide gifts to parents.\nJoin us by supporting this wonderful organization by:\n\n\n\nAdopting a Family www.mybrotherskeeper.org\n\n\nMaking a Donation www.mybrotherskeeper.org\n\n\n\nPlease contact My Brother’s Keeper if you are interested in volunteering at the Dartmouth facility\, as we have enough volunteers for the wrapping day on 12/20/2023.  Thank you to those who volunteered early!  
URL:https://cranberrycountry.org/event/my-brothers-keeper-chamber-wrapping-day/
LOCATION:My Brother’s Keeper\, 1015 Reed Road\, Dartmouth\, MA\, 02747
CATEGORIES:Community Involvement
ATTACH;FMTTYPE=image/png:https://cranberrycountry.org/wp-content/uploads/2022/09/my-brothers-keeper-white-bkgrd.png
END:VEVENT
BEGIN:VEVENT
DTSTART;TZID=America/New_York:20230519T080000
DTEND;TZID=America/New_York:20230519T170000
DTSTAMP:20260422T033712
CREATED:20230412T171442Z
LAST-MODIFIED:20230412T171442Z
UID:10000233-1684483200-1684515600@cranberrycountry.org
SUMMARY:Camp Yomechas Clean Up Day!
DESCRIPTION:Email Julie Kennedy  jkennedy@oldcolonyymca.org
URL:https://cranberrycountry.org/event/camp-yomechas-clean-up-day/
LOCATION:Camp Yomechas\, 375 Wareham Street\, Middleboro\, MA\, 02346
CATEGORIES:Community Involvement,Member Event
END:VEVENT
BEGIN:VEVENT
DTSTART;TZID=America/New_York:20230423T090000
DTEND;TZID=America/New_York:20230423T140000
DTSTAMP:20260422T033712
CREATED:20230220T171150Z
LAST-MODIFIED:20230224T154407Z
UID:10000216-1682240400-1682258400@cranberrycountry.org
SUMMARY:Food Drive & Electronics Disposal
DESCRIPTION:
URL:https://cranberrycountry.org/event/food-drive-electronics-disposal-4/
LOCATION:MA
CATEGORIES:Community Involvement
ATTACH;FMTTYPE=image/png:https://cranberrycountry.org/wp-content/uploads/2023/02/Go-giver.png
END:VEVENT
BEGIN:VEVENT
DTSTART;TZID=America/New_York:20230422T090000
DTEND;TZID=America/New_York:20230422T140000
DTSTAMP:20260422T033712
CREATED:20230220T171055Z
LAST-MODIFIED:20230224T154319Z
UID:10000215-1682154000-1682172000@cranberrycountry.org
SUMMARY:Food Drive & Electronics Disposal
DESCRIPTION:
URL:https://cranberrycountry.org/event/food-drive-electronics-disposal-3/
LOCATION:MA
CATEGORIES:Community Involvement
ATTACH;FMTTYPE=image/png:https://cranberrycountry.org/wp-content/uploads/2023/02/Go-giver.png
END:VEVENT
BEGIN:VEVENT
DTSTART;TZID=America/New_York:20230419T170000
DTEND;TZID=America/New_York:20230419T210000
DTSTAMP:20260422T033712
CREATED:20230330T174214Z
LAST-MODIFIED:20230330T174956Z
UID:10000227-1681923600-1681938000@cranberrycountry.org
SUMMARY:Donations by Dining
DESCRIPTION:Help support our local Food Pantries\nSacred Heart Food Pantry & Shane Gives Thanks Food Pantry\nby dinning (or takeout) at El Mariachi in Wareham\nbetwen 5:00 pm to close on Wed.\, April 19\n207 Main Street\, Wareham\nEl Mariachi will donate a percentage of proceeds to both Food Pantries\n \nBe a Go Giver…and give back while enjoying a delicious dinner!
URL:https://cranberrycountry.org/event/donations-by-dining/
LOCATION:El Mariachi\, 207 Main Street\, Wareham\, MA
CATEGORIES:Community Involvement
ATTACH;FMTTYPE=image/png:https://cranberrycountry.org/wp-content/uploads/2023/02/Go-giver.png
END:VEVENT
BEGIN:VEVENT
DTSTART;TZID=America/New_York:20221204T090000
DTEND;TZID=America/New_York:20221204T150000
DTSTAMP:20260422T033712
CREATED:20221121T132622Z
LAST-MODIFIED:20221121T132622Z
UID:10000108-1670144400-1670166000@cranberrycountry.org
SUMMARY:Food Drive - Electronics Disposal
DESCRIPTION:EMAIL PAM to volunteer 1-2 hours (or more!) either location:  pdziura@cranberrycountry.org
URL:https://cranberrycountry.org/event/food-drive-electronics-disposal-2/
LOCATION:MA
CATEGORIES:Community Involvement
ATTACH;FMTTYPE=image/png:https://cranberrycountry.org/wp-content/uploads/2022/11/Go-giver.png
END:VEVENT
BEGIN:VEVENT
DTSTART;TZID=America/New_York:20221203T090000
DTEND;TZID=America/New_York:20221203T150000
DTSTAMP:20260422T033712
CREATED:20221121T132457Z
LAST-MODIFIED:20221121T132656Z
UID:10000107-1670058000-1670079600@cranberrycountry.org
SUMMARY:Food Drive - Electronics Disposal
DESCRIPTION:EMAIL PAM to volunteer 1-2 hours (or more!) either location:  pdziura@cranberrycountry.org
URL:https://cranberrycountry.org/event/food-drive-electronics-disposal/
LOCATION:MA
CATEGORIES:Community Involvement
ATTACH;FMTTYPE=image/png:https://cranberrycountry.org/wp-content/uploads/2022/11/Go-giver.png
END:VEVENT
END:VCALENDAR